BEGIN:VCALENDAR
VERSION:2.0
PRODID:-//Northeast Ohio Parent - ECPv5.16.4//NONSGML v1.0//EN
CALSCALE:GREGORIAN
METHOD:PUBLISH
X-WR-CALNAME:Northeast Ohio Parent
X-ORIGINAL-URL:https://www.northeastohioparent.com
X-WR-CALDESC:Events for Northeast Ohio Parent
BEGIN:VTIMEZONE
TZID:America/New_York
BEGIN:DAYLIGHT
TZOFFSETFROM:-0500
TZOFFSETTO:-0400
TZNAME:EDT
DTSTART:20250309T070000
END:DAYLIGHT
BEGIN:STANDARD
TZOFFSETFROM:-0400
TZOFFSETTO:-0500
TZNAME:EST
DTSTART:20251102T060000
END:STANDARD
END:VTIMEZONE
BEGIN:VEVENT
DTSTART;TZID=America/New_York:20251213T120000
DTEND;TZID=America/New_York:20251213T210000
DTSTAMP:20260424T054912
CREATED:20251113T201042Z
LAST-MODIFIED:20251113T201042Z
UID:165112-1765627200-1765659600@www.northeastohioparent.com
SUMMARY:Shaker Arts Council and Craft Kindship Present a Holiday Art Market
DESCRIPTION:Shaker Arts Council and Craft Kindship present a Holiday Art Market on Saturday\, December 13\, 2025.  This one-day pop-up is an opportunity to shop for the holidays while supporting local and emerging artists of the Cleveland Institute of Art students and alumni.  The holiday Art Market will be held at the Van Aken District Market Hall – Next to Craft Collective\, .   Selections will include glass\, ceramics\, jewelry\, and other crafts and will start prior to Van Aken District’s Chill and Toast.  The event will include live metal working demos\, and a kids craft station.  Bring the whole family for this fun shopping experience with gifts for every age and price range.  20% of the proceeds will support the Shaker Arts Council.  For more information visit www.shakerartscouncil.org
URL:https://www.northeastohioparent.com/event/shaker-arts-council-and-craft-kindship-present-a-holiday-art-market/
LOCATION:Van Aken District Market Hall\, 3441 Tuttle Rd\, Shaker Heights\, 44122
ATTACH;FMTTYPE=image/jpeg:https://www.northeastohioparent.com/wp-content/uploads/2025/11/Copy-of-Copy-of-Copy-of-Untitled-Design22.jpg
ORGANIZER;CN="Shaker%20Arts%20Council":MAILTO:info@shakerartscouncil.org
END:VEVENT
END:VCALENDAR