BEGIN:VCALENDAR
VERSION:2.0
PRODID:-//Northeast Ohio Parent - ECPv5.16.4//NONSGML v1.0//EN
CALSCALE:GREGORIAN
METHOD:PUBLISH
X-WR-CALNAME:Northeast Ohio Parent
X-ORIGINAL-URL:https://www.northeastohioparent.com
X-WR-CALDESC:Events for Northeast Ohio Parent
BEGIN:VTIMEZONE
TZID:America/New_York
BEGIN:DAYLIGHT
TZOFFSETFROM:-0500
TZOFFSETTO:-0400
TZNAME:EDT
DTSTART:20250309T070000
END:DAYLIGHT
BEGIN:STANDARD
TZOFFSETFROM:-0400
TZOFFSETTO:-0500
TZNAME:EST
DTSTART:20251102T060000
END:STANDARD
END:VTIMEZONE
BEGIN:VEVENT
DTSTART;TZID=America/New_York:20251011T120000
DTEND;TZID=America/New_York:20251011T160000
DTSTAMP:20260425T215313
CREATED:20250608T222121Z
LAST-MODIFIED:20250608T222121Z
UID:154565-1760184000-1760198400@www.northeastohioparent.com
SUMMARY:Shine a Light NF Walk with The Children’s Tumor Foundation
DESCRIPTION:This is a fundraising event to benefit the Children’s Tumor Foundation\, and help end NF\, a group of genetic conditions that affect millions worldwide and causes tumors to grow on nerves throughout the body. The Shine a Light NF Walk brings together the community in support of the individuals (like me) and families living with NF.\nRegistration for each attendee is required\, but the event is free! The day will be fun\, festive\, and family friendly for a fantastic cause!
URL:https://www.northeastohioparent.com/event/shine-a-light-nf-walk-with-the-childrens-tumor-foundation/
LOCATION:Sunny Lake Park\, 885 E Mennonite Rd\, Aurora\, 44202
ORGANIZER;CN="Children%27s%20Tumor%20Foundation":MAILTO:cleveland@shinealightwalk.org
GEO:41.290323;-81.3187301
X-APPLE-STRUCTURED-LOCATION;VALUE=URI;X-ADDRESS=Sunny Lake Park 885 E Mennonite Rd Aurora 44202;X-APPLE-RADIUS=500;X-TITLE=885 E Mennonite Rd:geo:-81.3187301,41.290323
END:VEVENT
END:VCALENDAR