BEGIN:VCALENDAR
VERSION:2.0
PRODID:-//Northeast Ohio Parent - ECPv5.16.4//NONSGML v1.0//EN
CALSCALE:GREGORIAN
METHOD:PUBLISH
X-WR-CALNAME:Northeast Ohio Parent
X-ORIGINAL-URL:https://www.northeastohioparent.com
X-WR-CALDESC:Events for Northeast Ohio Parent
BEGIN:VTIMEZONE
TZID:America/New_York
BEGIN:DAYLIGHT
TZOFFSETFROM:-0500
TZOFFSETTO:-0400
TZNAME:EDT
DTSTART:20250309T070000
END:DAYLIGHT
BEGIN:STANDARD
TZOFFSETFROM:-0400
TZOFFSETTO:-0500
TZNAME:EST
DTSTART:20251102T060000
END:STANDARD
END:VTIMEZONE
BEGIN:VEVENT
DTSTART;TZID=America/New_York:20251115T110000
DTEND;TZID=America/New_York:20251115T160000
DTSTAMP:20260424T230026
CREATED:20251113T162644Z
LAST-MODIFIED:20251113T162644Z
UID:167367-1763204400-1763222400@www.northeastohioparent.com
SUMMARY:Shop-a-Holidays at the Akron Zoo
DESCRIPTION:Kick off the holiday shopping season at the Akron Zoo on Saturday\, November 15 from 11 a.m. -4 p.m. Enjoy a wild shopping experience as you visit a variety of crafters\, artists and the zoo’s gift shop to find the perfect gift for that special someone.  Activities for kids are included during this unique shopping experience.\n\n\nAdmission to the zoo is FREE for all guests.\n\n \n\n\nDon’t miss this opportunity to find the perfect gifts\, enjoy family fun and make unforgettable holiday memories! 
URL:https://www.northeastohioparent.com/event/shop-a-holidays-at-the-akron-zoo/
LOCATION:Akron Zoo\, 505 Euclid Ave\, Akron\, OH\, 44307\, United States
ATTACH;FMTTYPE=image/jpeg:https://www.northeastohioparent.com/wp-content/uploads/2025/11/Screenshot-2025-11-13-at-11.25.14-AM.jpg
END:VEVENT
END:VCALENDAR