BEGIN:VCALENDAR
VERSION:2.0
PRODID:-//Northeast Ohio Parent - ECPv5.16.4//NONSGML v1.0//EN
CALSCALE:GREGORIAN
METHOD:PUBLISH
X-WR-CALNAME:Northeast Ohio Parent
X-ORIGINAL-URL:https://www.northeastohioparent.com
X-WR-CALDESC:Events for Northeast Ohio Parent
BEGIN:VTIMEZONE
TZID:America/New_York
BEGIN:DAYLIGHT
TZOFFSETFROM:-0500
TZOFFSETTO:-0400
TZNAME:EDT
DTSTART:20250309T070000
END:DAYLIGHT
BEGIN:STANDARD
TZOFFSETFROM:-0400
TZOFFSETTO:-0500
TZNAME:EST
DTSTART:20251102T060000
END:STANDARD
END:VTIMEZONE
BEGIN:VEVENT
DTSTART;TZID=America/New_York:20251128T160000
DTEND;TZID=America/New_York:20251128T190000
DTSTAMP:20260424T155127
CREATED:20251201T140628Z
LAST-MODIFIED:20251201T140640Z
UID:168251-1764345600-1764356400@www.northeastohioparent.com
SUMMARY:Sparkle on the Square
DESCRIPTION:Enjoy an evening of festive cheer\, including photos with Santa\, live music\, cookie decorating\, Frosty the Snowman\, and the lighting of the holiday tree in this historic Cleveland gathering space.
URL:https://www.northeastohioparent.com/event/sparkle-on-the-square/
LOCATION:Shaker Square\, Cleveland\, OH\, 44120\, United States
ATTACH;FMTTYPE=image/jpeg:https://www.northeastohioparent.com/wp-content/uploads/2025/11/cnp-sparkle-on-square-social-1080x1080-1.jpg
GEO:41.4769163;-81.5760945
END:VEVENT
END:VCALENDAR