BEGIN:VCALENDAR
VERSION:2.0
PRODID:-//Northeast Ohio Parent - ECPv5.16.4//NONSGML v1.0//EN
CALSCALE:GREGORIAN
METHOD:PUBLISH
X-WR-CALNAME:Northeast Ohio Parent
X-ORIGINAL-URL:https://www.northeastohioparent.com
X-WR-CALDESC:Events for Northeast Ohio Parent
BEGIN:VTIMEZONE
TZID:America/New_York
BEGIN:DAYLIGHT
TZOFFSETFROM:-0500
TZOFFSETTO:-0400
TZNAME:EDT
DTSTART:20250309T070000
END:DAYLIGHT
BEGIN:STANDARD
TZOFFSETFROM:-0400
TZOFFSETTO:-0500
TZNAME:EST
DTSTART:20251102T060000
END:STANDARD
END:VTIMEZONE
BEGIN:VEVENT
DTSTART;VALUE=DATE:20251120
DTEND;VALUE=DATE:20251121
DTSTAMP:20260424T213220
CREATED:20251011T131848Z
LAST-MODIFIED:20251011T131850Z
UID:162893-1763596800-1763683199@www.northeastohioparent.com
SUMMARY:Spy School
DESCRIPTION:Calling all secret agents\, join the Library for Operation: Undercover\, a spy training experience. Spy School will be a night full of fun\, creativity\, and a dash of espionage.\n\n\nGrades 2-6. Registration is required. 5:30-6:30 p.m.
URL:https://www.northeastohioparent.com/event/spy-school/
LOCATION:Twinsburg Library\, 10050 Ravenna Road\, Twinsburg\, OH\, United States
CATEGORIES:Library,Special Event
ATTACH;FMTTYPE=image/jpeg:https://www.northeastohioparent.com/wp-content/uploads/2025/10/spy.jpg
END:VEVENT
END:VCALENDAR