BEGIN:VCALENDAR
VERSION:2.0
PRODID:-//Northeast Ohio Parent - ECPv5.16.4//NONSGML v1.0//EN
CALSCALE:GREGORIAN
METHOD:PUBLISH
X-WR-CALNAME:Northeast Ohio Parent
X-ORIGINAL-URL:https://www.northeastohioparent.com
X-WR-CALDESC:Events for Northeast Ohio Parent
BEGIN:VTIMEZONE
TZID:America/New_York
BEGIN:DAYLIGHT
TZOFFSETFROM:-0500
TZOFFSETTO:-0400
TZNAME:EDT
DTSTART:20260308T070000
END:DAYLIGHT
BEGIN:STANDARD
TZOFFSETFROM:-0400
TZOFFSETTO:-0500
TZNAME:EST
DTSTART:20261101T060000
END:STANDARD
END:VTIMEZONE
BEGIN:VEVENT
DTSTART;VALUE=DATE:20260426
DTEND;VALUE=DATE:20260427
DTSTAMP:20260425T071917
CREATED:20260309T003859Z
LAST-MODIFIED:20260309T003859Z
UID:174389-1777161600-1777247999@www.northeastohioparent.com
SUMMARY:Story Walk at Crocker Park
DESCRIPTION:Enjoy a free\, family‑friendly Story Walk featuring Don’t Let the Pigeon Drive the Bus! Start at Barnes & Noble and follow the story page by page throughout Crocker Park. Maps available at parking garages and Story Walk stops.\n\nBonus: Free Easter Bunny Photos March 28th inside Barnes & Noble (2nd floor)\n\nNo reservations necessary. Monday-Saturday from 10 a.m.-8 p.m. and Sunday from 12:-5 p.m. Pets welcome 10 a.m.–1 p.m.
URL:https://www.northeastohioparent.com/event/story-walk-at-crocker-park/2026-04-26/
LOCATION:Crocker Park\, 177 Market St\, Westlake\, OH 44145\, Westlake\, OH\, USA\, OH\, 44145\, United States
CATEGORIES:Easter,Outdoors,Special Event,Storytimes
ATTACH;FMTTYPE=image/jpeg:https://www.northeastohioparent.com/wp-content/uploads/2026/03/Screenshot-2026-03-03-113043.jpg
GEO:41.4593613;-81.9509204
X-APPLE-STRUCTURED-LOCATION;VALUE=URI;X-ADDRESS=Crocker Park 177 Market St Westlake OH 44145 Westlake OH USA OH 44145 United States;X-APPLE-RADIUS=500;X-TITLE=177 Market St\, Westlake\, OH 44145:geo:-81.9509204,41.4593613
END:VEVENT
END:VCALENDAR