BEGIN:VCALENDAR
VERSION:2.0
PRODID:-//Northeast Ohio Parent - ECPv5.16.4//NONSGML v1.0//EN
CALSCALE:GREGORIAN
METHOD:PUBLISH
X-WR-CALNAME:Northeast Ohio Parent
X-ORIGINAL-URL:https://www.northeastohioparent.com
X-WR-CALDESC:Events for Northeast Ohio Parent
BEGIN:VTIMEZONE
TZID:America/New_York
BEGIN:DAYLIGHT
TZOFFSETFROM:-0500
TZOFFSETTO:-0400
TZNAME:EDT
DTSTART:20260308T070000
END:DAYLIGHT
BEGIN:STANDARD
TZOFFSETFROM:-0400
TZOFFSETTO:-0500
TZNAME:EST
DTSTART:20261101T060000
END:STANDARD
END:VTIMEZONE
BEGIN:VEVENT
DTSTART;VALUE=DATE:20260622
DTEND;VALUE=DATE:20260623
DTSTAMP:20260422T232115
CREATED:20260420T213022Z
LAST-MODIFIED:20260420T213022Z
UID:192035-1782086400-1782172799@www.northeastohioparent.com
SUMMARY:Summer Story Time
DESCRIPTION:Make the Library a part of your bedtime routine with an evening story time. 6/8-7/13. 6 p.m. 
URL:https://www.northeastohioparent.com/event/summer-story-time/2026-06-22/
LOCATION:Lakewood Library\, Main Branch\, Multipurpose Room\, 15425 Detroit Ave.\, Lakewood\, United States
CATEGORIES:Baby/Kid 'n Me Event,Storytimes
ATTACH;FMTTYPE=image/jpeg:https://www.northeastohioparent.com/wp-content/uploads/2018/11/bigstock-Teacher-At-Montessori-School-R-186931048.jpg
GEO:41.4846897;-81.804263
X-APPLE-STRUCTURED-LOCATION;VALUE=URI;X-ADDRESS=Lakewood Library Main Branch Multipurpose Room 15425 Detroit Ave. Lakewood United States;X-APPLE-RADIUS=500;X-TITLE=15425 Detroit Ave.:geo:-81.804263,41.4846897
END:VEVENT
END:VCALENDAR