BEGIN:VCALENDAR
VERSION:2.0
PRODID:-//Northeast Ohio Parent - ECPv5.16.4//NONSGML v1.0//EN
CALSCALE:GREGORIAN
METHOD:PUBLISH
X-WR-CALNAME:Northeast Ohio Parent
X-ORIGINAL-URL:https://www.northeastohioparent.com
X-WR-CALDESC:Events for Northeast Ohio Parent
BEGIN:VTIMEZONE
TZID:America/New_York
BEGIN:DAYLIGHT
TZOFFSETFROM:-0500
TZOFFSETTO:-0400
TZNAME:EDT
DTSTART:20260308T070000
END:DAYLIGHT
BEGIN:STANDARD
TZOFFSETFROM:-0400
TZOFFSETTO:-0500
TZNAME:EST
DTSTART:20261101T060000
END:STANDARD
END:VTIMEZONE
BEGIN:VEVENT
DTSTART;VALUE=DATE:20260502
DTEND;VALUE=DATE:20260503
DTSTAMP:20260425T111614
CREATED:20260418T193437Z
LAST-MODIFIED:20260418T193437Z
UID:191836-1777680000-1777766399@www.northeastohioparent.com
SUMMARY:Super Saturday: Space Adventure
DESCRIPTION:Children ages 2-7 explore music\, dance\, theater\, and the visual arts.\n\n\nParent/adult participation required.\n\n \n\n\nAdmission is free\, but tickets must be reserved at beckcenter.org or by calling 216-521-2540.\n\n\n10-11:45 a.m. 
URL:https://www.northeastohioparent.com/event/super-saturday-space-adventure/
LOCATION:Beck Center for the Arts\, 17801 Detroit Ave.\, Lakewood\, 44107
CATEGORIES:Science,Theater
ATTACH;FMTTYPE=image/jpeg:https://www.northeastohioparent.com/wp-content/uploads/2020/08/Beck-Center-Logo.jpg
GEO:41.4842065;-81.8202298
X-APPLE-STRUCTURED-LOCATION;VALUE=URI;X-ADDRESS=Beck Center for the Arts 17801 Detroit Ave. Lakewood 44107;X-APPLE-RADIUS=500;X-TITLE=17801 Detroit Ave.:geo:-81.8202298,41.4842065
END:VEVENT
END:VCALENDAR