BEGIN:VCALENDAR
VERSION:2.0
PRODID:-//Northeast Ohio Parent - ECPv5.16.4//NONSGML v1.0//EN
CALSCALE:GREGORIAN
METHOD:PUBLISH
X-WR-CALNAME:Northeast Ohio Parent
X-ORIGINAL-URL:https://www.northeastohioparent.com
X-WR-CALDESC:Events for Northeast Ohio Parent
BEGIN:VTIMEZONE
TZID:America/New_York
BEGIN:DAYLIGHT
TZOFFSETFROM:-0500
TZOFFSETTO:-0400
TZNAME:EDT
DTSTART:20260308T070000
END:DAYLIGHT
BEGIN:STANDARD
TZOFFSETFROM:-0400
TZOFFSETTO:-0500
TZNAME:EST
DTSTART:20261101T060000
END:STANDARD
END:VTIMEZONE
BEGIN:VEVENT
DTSTART;VALUE=DATE:20260525
DTEND;VALUE=DATE:20260526
DTSTAMP:20260425T231113
CREATED:20260418T003834Z
LAST-MODIFIED:20260418T003834Z
UID:191728-1779667200-1779753599@www.northeastohioparent.com
SUMMARY:Tallmadge Memorial Day Parade & Service
DESCRIPTION:Begins at 9:30 a.m.\, moving onto West Ave. at 10 a.m. 
URL:https://www.northeastohioparent.com/event/tallmadge-memorial-day-parade-service/
LOCATION:Tallmadge Memorial Day Parade & Service\, 30 Wright Rd.\, Tallmadge\, OH\, United States
CATEGORIES:Memorial Day,Special Event
END:VEVENT
END:VCALENDAR