BEGIN:VCALENDAR
VERSION:2.0
PRODID:-//Northeast Ohio Parent - ECPv5.16.4//NONSGML v1.0//EN
CALSCALE:GREGORIAN
METHOD:PUBLISH
X-WR-CALNAME:Northeast Ohio Parent
X-ORIGINAL-URL:https://www.northeastohioparent.com
X-WR-CALDESC:Events for Northeast Ohio Parent
BEGIN:VTIMEZONE
TZID:America/New_York
BEGIN:DAYLIGHT
TZOFFSETFROM:-0500
TZOFFSETTO:-0400
TZNAME:EDT
DTSTART:20260308T070000
END:DAYLIGHT
BEGIN:STANDARD
TZOFFSETFROM:-0400
TZOFFSETTO:-0500
TZNAME:EST
DTSTART:20261101T060000
END:STANDARD
END:VTIMEZONE
BEGIN:VEVENT
DTSTART;VALUE=DATE:20260530
DTEND;VALUE=DATE:20260531
DTSTAMP:20260425T175354
CREATED:20260423T203323Z
LAST-MODIFIED:20260423T203323Z
UID:192236-1780099200-1780185599@www.northeastohioparent.com
SUMMARY:Tents & Tales for Tots
DESCRIPTION:Families are invited to try out the different activities involved in camping with small children. 6:30-9 p.m. 
URL:https://www.northeastohioparent.com/event/tents-tales-for-tots/
LOCATION:Liberty Park Nature Center\, 9999 Liberty Road\, Twinsburg
CATEGORIES:Baby/Kid 'n Me Event,Special Event
ATTACH;FMTTYPE=image/jpeg:https://www.northeastohioparent.com/wp-content/uploads/2026/04/tents.jpg
GEO:41.3366153;-81.4190109
X-APPLE-STRUCTURED-LOCATION;VALUE=URI;X-ADDRESS=Liberty Park Nature Center 9999 Liberty Road Twinsburg;X-APPLE-RADIUS=500;X-TITLE=9999 Liberty Road:geo:-81.4190109,41.3366153
END:VEVENT
END:VCALENDAR