BEGIN:VCALENDAR
VERSION:2.0
PRODID:-//Northeast Ohio Parent - ECPv5.16.4//NONSGML v1.0//EN
CALSCALE:GREGORIAN
METHOD:PUBLISH
X-WR-CALNAME:Northeast Ohio Parent
X-ORIGINAL-URL:https://www.northeastohioparent.com
X-WR-CALDESC:Events for Northeast Ohio Parent
BEGIN:VTIMEZONE
TZID:America/New_York
BEGIN:DAYLIGHT
TZOFFSETFROM:-0500
TZOFFSETTO:-0400
TZNAME:EDT
DTSTART:20250309T070000
END:DAYLIGHT
BEGIN:STANDARD
TZOFFSETFROM:-0400
TZOFFSETTO:-0500
TZNAME:EST
DTSTART:20251102T060000
END:STANDARD
END:VTIMEZONE
BEGIN:VEVENT
DTSTART;VALUE=DATE:20251219
DTEND;VALUE=DATE:20251220
DTSTAMP:20260424T025737
CREATED:20251114T202939Z
LAST-MODIFIED:20251114T202941Z
UID:167592-1766102400-1766188799@www.northeastohioparent.com
SUMMARY:The Nightmare Before Christmas
DESCRIPTION:Enjoy a cozy evening of exploration and entertainment within museum walls. Join flashlight tours of Perkins Wildlife Center and discover with the Museum’s animal ambassadors in the dark. Plan a winter date night or bring friends and family.\n\n\n\nEnjoy a 7pm screening of The Nightmare Before Christmas in Murch Auditorium.\nFlashlight tours of Perkins Wildlife Center at 5:30 and 6 p.m.\nDrinks will be available at a cash bar in the Visitor Hall\nFood and beverages can be purchased in the Museum’s Origins Café\n\nTickets:\n\n\nFilm screenings and flashlight tours of Perkins Wildlife Center are included with admission.\n\n \n\n\nMembers\nFree; reservations recommended\n\n\nNonmembers\nPurchase tickets in advance to get a $3 discount on Chill @ CMNH tickets.\n\n\nADULT (19–60): Advance: $25 | At the door: $28\nYOUTH (2–18): Advance: $18 | At the door: $21\nSENIOR (61+): Advance: $18 | At the door: $21\nUNDERGRAD: Advance: $18 | At the door: $21\nMILITARY VETERAN: Advance: $18 | At the door: $21 \n\n\n5-9 p.m.
URL:https://www.northeastohioparent.com/event/the-nightmare-before-christmas/
LOCATION:Cleveland Museum of Natural History\, 1 Wade Oval Drive\, Cleveland\, OH\, 44106\, United States
CATEGORIES:Holiday,Museums
ATTACH;FMTTYPE=image/jpeg:https://www.northeastohioparent.com/wp-content/uploads/2025/11/THe-Nightmare-before-Christmas.jpg
END:VEVENT
END:VCALENDAR