BEGIN:VCALENDAR
VERSION:2.0
PRODID:-//Northeast Ohio Parent - ECPv5.16.4//NONSGML v1.0//EN
CALSCALE:GREGORIAN
METHOD:PUBLISH
X-WR-CALNAME:Northeast Ohio Parent
X-ORIGINAL-URL:https://www.northeastohioparent.com
X-WR-CALDESC:Events for Northeast Ohio Parent
BEGIN:VTIMEZONE
TZID:America/New_York
BEGIN:DAYLIGHT
TZOFFSETFROM:-0500
TZOFFSETTO:-0400
TZNAME:EDT
DTSTART:20250309T070000
END:DAYLIGHT
BEGIN:STANDARD
TZOFFSETFROM:-0400
TZOFFSETTO:-0500
TZNAME:EST
DTSTART:20251102T060000
END:STANDARD
END:VTIMEZONE
BEGIN:VEVENT
DTSTART;VALUE=DATE:20251120
DTEND;VALUE=DATE:20251121
DTSTAMP:20260423T070202
CREATED:20251008T005029Z
LAST-MODIFIED:20251008T005029Z
UID:162509-1763596800-1763683199@www.northeastohioparent.com
SUMMARY:The North Pole Adventure
DESCRIPTION:26-mile\, 90-minute excursion to the enchanting North Pole departing at 5 and 7:55 p.m. 
URL:https://www.northeastohioparent.com/event/the-north-pole-adventure/2025-11-20/
LOCATION:Cuyahoga Valley Scenic Railroad
CATEGORIES:Holiday,Special Events
END:VEVENT
END:VCALENDAR