BEGIN:VCALENDAR
VERSION:2.0
PRODID:-//Northeast Ohio Parent - ECPv5.16.4//NONSGML v1.0//EN
CALSCALE:GREGORIAN
METHOD:PUBLISH
X-WR-CALNAME:Northeast Ohio Parent
X-ORIGINAL-URL:https://www.northeastohioparent.com
X-WR-CALDESC:Events for Northeast Ohio Parent
BEGIN:VTIMEZONE
TZID:America/New_York
BEGIN:DAYLIGHT
TZOFFSETFROM:-0500
TZOFFSETTO:-0400
TZNAME:EDT
DTSTART:20250309T070000
END:DAYLIGHT
BEGIN:STANDARD
TZOFFSETFROM:-0400
TZOFFSETTO:-0500
TZNAME:EST
DTSTART:20251102T060000
END:STANDARD
END:VTIMEZONE
BEGIN:VEVENT
DTSTART;TZID=America/New_York:20251227T120000
DTEND;TZID=America/New_York:20251227T140000
DTSTAMP:20260423T214753
CREATED:20251224T144805Z
LAST-MODIFIED:20251224T165808Z
UID:171465-1766836800-1766844000@www.northeastohioparent.com
SUMMARY:Together in Tradition: A Kwanzaa Celebration
DESCRIPTION:In partnership with Djapo Cultural Arts Institute\, please join Cleveland Public Library for a vibrant and meaningful Kwanzaa celebration honoring African and African American traditions from 12-2 p.m.\n\n\nThis immersive cultural experience will promote unity\, empowerment\, and creativity through soulful music\, captivating dancing\, engaging storytelling\, and community engagement for all ages.\n\n \n\n\n 
URL:https://www.northeastohioparent.com/event/together-in-tradition-a-kwanzaa-celebration/
LOCATION:Cleveland Public Library\, 325 Superior Ave.\, Cleveland\, 44114
CATEGORIES:Featured,Special Event
ATTACH;FMTTYPE=image/jpeg:https://www.northeastohioparent.com/wp-content/uploads/2025/12/Screenshot-2025-12-24-at-9.46.36-AM.jpg
END:VEVENT
END:VCALENDAR