BEGIN:VCALENDAR
VERSION:2.0
PRODID:-//Northeast Ohio Parent - ECPv5.16.4//NONSGML v1.0//EN
CALSCALE:GREGORIAN
METHOD:PUBLISH
X-WR-CALNAME:Northeast Ohio Parent
X-ORIGINAL-URL:https://www.northeastohioparent.com
X-WR-CALDESC:Events for Northeast Ohio Parent
BEGIN:VTIMEZONE
TZID:America/New_York
BEGIN:DAYLIGHT
TZOFFSETFROM:-0500
TZOFFSETTO:-0400
TZNAME:EDT
DTSTART:20250309T070000
END:DAYLIGHT
BEGIN:STANDARD
TZOFFSETFROM:-0400
TZOFFSETTO:-0500
TZNAME:EST
DTSTART:20251102T060000
END:STANDARD
END:VTIMEZONE
BEGIN:VEVENT
DTSTART;VALUE=DATE:20251025
DTEND;VALUE=DATE:20251026
DTSTAMP:20260425T124628
CREATED:20250914T223920Z
LAST-MODIFIED:20250914T223920Z
UID:160705-1761350400-1761436799@www.northeastohioparent.com
SUMMARY:Trick & Treats
DESCRIPTION:Dress up in your favorite costume and get ready to kick off the weekend with some Halloween fun. 12 p.m.-3 p.m.
URL:https://www.northeastohioparent.com/event/trick-treats/
LOCATION:Crocker Park\, 177 Market St\, Westlake\, OH 44145\, Westlake\, OH\, USA\, OH\, 44145\, United States
CATEGORIES:Halloween,Outdoors
GEO:41.4593613;-81.9509204
X-APPLE-STRUCTURED-LOCATION;VALUE=URI;X-ADDRESS=Crocker Park 177 Market St Westlake OH 44145 Westlake OH USA OH 44145 United States;X-APPLE-RADIUS=500;X-TITLE=177 Market St\, Westlake\, OH 44145:geo:-81.9509204,41.4593613
END:VEVENT
END:VCALENDAR