BEGIN:VCALENDAR
VERSION:2.0
PRODID:-//Northeast Ohio Parent - ECPv5.16.4//NONSGML v1.0//EN
CALSCALE:GREGORIAN
METHOD:PUBLISH
X-WR-CALNAME:Northeast Ohio Parent
X-ORIGINAL-URL:https://www.northeastohioparent.com
X-WR-CALDESC:Events for Northeast Ohio Parent
BEGIN:VTIMEZONE
TZID:America/New_York
BEGIN:DAYLIGHT
TZOFFSETFROM:-0500
TZOFFSETTO:-0400
TZNAME:EDT
DTSTART:20250309T070000
END:DAYLIGHT
BEGIN:STANDARD
TZOFFSETFROM:-0400
TZOFFSETTO:-0500
TZNAME:EST
DTSTART:20251102T060000
END:STANDARD
END:VTIMEZONE
BEGIN:VEVENT
DTSTART;TZID=America/New_York:20250722T090000
DTEND;TZID=America/New_York:20250722T093000
DTSTAMP:20260423T042659
CREATED:20250710T173826Z
LAST-MODIFIED:20250710T173826Z
UID:156124-1753174800-1753176600@www.northeastohioparent.com
SUMMARY:Wake Up With Sharks! @CLEAquarium
DESCRIPTION:Make it a JAWsome day by starting it off with sharks! Observe shark adaptations and discover the important role sharks play in the ocean ecosystem from the comfort of your home anywhere in the world. Bring your questions\, this interactive experience allows for Q&A throughout.\n\n\nThis program takes place on Zoom. A Zoom link will be emailed to you before the program. Virtual programs do not include Aquarium admission. Participating parties are responsible for having internet access. Payment is required upon registration. We recommend no more than 4 people per screen.
URL:https://www.northeastohioparent.com/event/wake-up-with-sharks-cleaquarium/
LOCATION:Greater Cleveland Aquarium\, 2000 Sycamore Street\, Cleveland\, 44113
ATTACH;FMTTYPE=image/jpeg:https://www.northeastohioparent.com/wp-content/uploads/2025/07/SharkEducatorSq.jpg
ORGANIZER;CN="Greater%20Cleveland%20Aquarium":MAILTO:info@greaterclevelandaquarium.com
GEO:41.4965537;-81.7039
X-APPLE-STRUCTURED-LOCATION;VALUE=URI;X-ADDRESS=Greater Cleveland Aquarium 2000 Sycamore Street Cleveland 44113;X-APPLE-RADIUS=500;X-TITLE=2000 Sycamore Street:geo:-81.7039,41.4965537
END:VEVENT
END:VCALENDAR