BEGIN:VCALENDAR
VERSION:2.0
PRODID:-//Northeast Ohio Parent - ECPv5.16.4//NONSGML v1.0//EN
CALSCALE:GREGORIAN
METHOD:PUBLISH
X-WR-CALNAME:Northeast Ohio Parent
X-ORIGINAL-URL:https://www.northeastohioparent.com
X-WR-CALDESC:Events for Northeast Ohio Parent
BEGIN:VTIMEZONE
TZID:America/New_York
BEGIN:DAYLIGHT
TZOFFSETFROM:-0500
TZOFFSETTO:-0400
TZNAME:EDT
DTSTART:20260308T070000
END:DAYLIGHT
BEGIN:STANDARD
TZOFFSETFROM:-0400
TZOFFSETTO:-0500
TZNAME:EST
DTSTART:20261101T060000
END:STANDARD
END:VTIMEZONE
BEGIN:VEVENT
DTSTART;VALUE=DATE:20260525
DTEND;VALUE=DATE:20260526
DTSTAMP:20260425T231113
CREATED:20260418T135346Z
LAST-MODIFIED:20260418T135346Z
UID:191745-1779667200-1779753599@www.northeastohioparent.com
SUMMARY:Warrensville Heights Memorial Day Parade
DESCRIPTION:Celebrate Memorial Day with lively bands\, energetic marchers\, dazzling dancers\, uplifting music\, and impressive safety vehicles. The parade proceeds along Warrensville Center Road from Halifax Rd to Old City Hall. \n\n\nWant to join in on the fun? Gather a group\, download the participation form\, follow the instructions to submit it\, and send it in by May 15\, 2026.\n\n \n\n\nParade Day\nOn parade day\, all groups should arrive at their designated streets by 8:45 a.m. at the latest. A street captain will assist lining up. Only vehicles participating in the parade are permitted on lineup streets.\n\n\nPark at the high school parking lot or on side streets\, but not on streets used by the parade or with signs for no parking.\n\n\nParking\nParking is not allowed on Halifax and Amherst or on Lanbury or Wickfield east of Midway Ave.\n\n\n10 a.m.-12 p.m.
URL:https://www.northeastohioparent.com/event/warrensville-heights-memorial-day-parade/
LOCATION:City of Warrensville\, Warrensville\, OH\, United States
CATEGORIES:Memorial Day,Special Event
ATTACH;FMTTYPE=image/png:https://www.northeastohioparent.com/wp-content/uploads/2026/04/warrensville.png
END:VEVENT
END:VCALENDAR