BEGIN:VCALENDAR
VERSION:2.0
PRODID:-//Northeast Ohio Parent - ECPv5.16.4//NONSGML v1.0//EN
CALSCALE:GREGORIAN
METHOD:PUBLISH
X-WR-CALNAME:Northeast Ohio Parent
X-ORIGINAL-URL:https://www.northeastohioparent.com
X-WR-CALDESC:Events for Northeast Ohio Parent
BEGIN:VTIMEZONE
TZID:America/New_York
BEGIN:DAYLIGHT
TZOFFSETFROM:-0500
TZOFFSETTO:-0400
TZNAME:EDT
DTSTART:20250309T070000
END:DAYLIGHT
BEGIN:STANDARD
TZOFFSETFROM:-0400
TZOFFSETTO:-0500
TZNAME:EST
DTSTART:20251102T060000
END:STANDARD
END:VTIMEZONE
BEGIN:VEVENT
DTSTART;VALUE=DATE:20250926
DTEND;VALUE=DATE:20250927
DTSTAMP:20260426T002350
CREATED:20250901T214814Z
LAST-MODIFIED:20250901T214814Z
UID:160275-1758844800-1758931199@www.northeastohioparent.com
SUMMARY:Wiggle\, Giggle and Shake
DESCRIPTION:Have fun clapping\, marching and moving to music. Ages 2-6. 10 a.m. 
URL:https://www.northeastohioparent.com/event/wiggle-giggle-and-shake-5/2025-09-26/
LOCATION:Mentor Public Library\, 8215 Mentor Ave.\, Mentor\, OH\, United States
CATEGORIES:Dancing,Library,Music
GEO:41.665227;-81.3465219
X-APPLE-STRUCTURED-LOCATION;VALUE=URI;X-ADDRESS=Mentor Public Library 8215 Mentor Ave. Mentor OH United States;X-APPLE-RADIUS=500;X-TITLE=8215 Mentor Ave.:geo:-81.3465219,41.665227
END:VEVENT
END:VCALENDAR