BEGIN:VCALENDAR
VERSION:2.0
PRODID:-//Northeast Ohio Parent - ECPv5.16.4//NONSGML v1.0//EN
CALSCALE:GREGORIAN
METHOD:PUBLISH
X-WR-CALNAME:Northeast Ohio Parent
X-ORIGINAL-URL:https://www.northeastohioparent.com
X-WR-CALDESC:Events for Northeast Ohio Parent
BEGIN:VTIMEZONE
TZID:America/New_York
BEGIN:DAYLIGHT
TZOFFSETFROM:-0500
TZOFFSETTO:-0400
TZNAME:EDT
DTSTART:20260308T070000
END:DAYLIGHT
BEGIN:STANDARD
TZOFFSETFROM:-0400
TZOFFSETTO:-0500
TZNAME:EST
DTSTART:20261101T060000
END:STANDARD
END:VTIMEZONE
BEGIN:VEVENT
DTSTART;VALUE=DATE:20260519
DTEND;VALUE=DATE:20260520
DTSTAMP:20260425T151225
CREATED:20260423T030742Z
LAST-MODIFIED:20260423T030742Z
UID:192114-1779148800-1779235199@www.northeastohioparent.com
SUMMARY:Willoughby Young & Restless
DESCRIPTION:A music and movement class for 2-4 year-olds. Children will play with shakers\, bubbles\, the parachute and more.\n\n\nThrough 5/26. 10-10:30 a.m. 
URL:https://www.northeastohioparent.com/event/willoughby-young-restless/2026-05-19/
LOCATION:Willoughby Public Library\, 30 Public Square\, Willoughby\, 44094
CATEGORIES:Baby/Kid 'n Me Event,Dancing,Music
ATTACH;FMTTYPE=image/jpeg:https://www.northeastohioparent.com/wp-content/uploads/2026/04/1710953888.jpg
END:VEVENT
END:VCALENDAR