BEGIN:VCALENDAR
VERSION:2.0
PRODID:-//Northeast Ohio Parent - ECPv5.16.4//NONSGML v1.0//EN
CALSCALE:GREGORIAN
METHOD:PUBLISH
X-WR-CALNAME:Northeast Ohio Parent
X-ORIGINAL-URL:https://www.northeastohioparent.com
X-WR-CALDESC:Events for Northeast Ohio Parent
BEGIN:VTIMEZONE
TZID:America/New_York
BEGIN:DAYLIGHT
TZOFFSETFROM:-0500
TZOFFSETTO:-0400
TZNAME:EDT
DTSTART:20250309T070000
END:DAYLIGHT
BEGIN:STANDARD
TZOFFSETFROM:-0400
TZOFFSETTO:-0500
TZNAME:EST
DTSTART:20251102T060000
END:STANDARD
END:VTIMEZONE
BEGIN:VEVENT
DTSTART;VALUE=DATE:20251218
DTEND;VALUE=DATE:20251219
DTSTAMP:20260424T014152
CREATED:20251115T201302Z
LAST-MODIFIED:20251115T201302Z
UID:167799-1766016000-1766102399@www.northeastohioparent.com
SUMMARY:Winter S.T.E.A.M Drop-In
DESCRIPTION:Try your hand at various table-top activities including crafts\, simple machines and building projects. 10 a.m.-12 p.m. 
URL:https://www.northeastohioparent.com/event/winter-s-t-e-a-m-drop-in/
LOCATION:F.A. Seiberling Nature Realm / Visitors Center\, 1828 Smith Rd\, Akron\, OH\, United States
CATEGORIES:Art,Nature,Science
GEO:41.1410853;-81.5755508
X-APPLE-STRUCTURED-LOCATION;VALUE=URI;X-ADDRESS=F.A. Seiberling Nature Realm / Visitors Center 1828 Smith Rd Akron OH United States;X-APPLE-RADIUS=500;X-TITLE=1828 Smith Rd:geo:-81.5755508,41.1410853
END:VEVENT
END:VCALENDAR