BEGIN:VCALENDAR
VERSION:2.0
PRODID:-//Northeast Ohio Parent - ECPv5.16.4//NONSGML v1.0//EN
CALSCALE:GREGORIAN
METHOD:PUBLISH
X-WR-CALNAME:Northeast Ohio Parent
X-ORIGINAL-URL:https://www.northeastohioparent.com
X-WR-CALDESC:Events for Northeast Ohio Parent
BEGIN:VTIMEZONE
TZID:America/New_York
BEGIN:DAYLIGHT
TZOFFSETFROM:-0500
TZOFFSETTO:-0400
TZNAME:EDT
DTSTART:20260308T070000
END:DAYLIGHT
BEGIN:STANDARD
TZOFFSETFROM:-0400
TZOFFSETTO:-0500
TZNAME:EST
DTSTART:20261101T060000
END:STANDARD
END:VTIMEZONE
BEGIN:VEVENT
DTSTART;VALUE=DATE:20260117
DTEND;VALUE=DATE:20260118
DTSTAMP:20260423T150456
CREATED:20251208T224032Z
LAST-MODIFIED:20251208T224032Z
UID:170588-1768608000-1768694399@www.northeastohioparent.com
SUMMARY:Winter Wellness for Kids
DESCRIPTION:Explore the body\, heart and mind through movement\, games\, crafts and more. 3-4 p.m. 
URL:https://www.northeastohioparent.com/event/winter-wellness-for-kids/
LOCATION:Highland Square Branch Library\, 807 W. Market St.\, Akron\, OH\, 44303\, United States
CATEGORIES:Game,Health,Library
END:VEVENT
END:VCALENDAR