BEGIN:VCALENDAR
VERSION:2.0
PRODID:-//Northeast Ohio Parent - ECPv5.16.4//NONSGML v1.0//EN
CALSCALE:GREGORIAN
METHOD:PUBLISH
X-WR-CALNAME:Northeast Ohio Parent
X-ORIGINAL-URL:https://www.northeastohioparent.com
X-WR-CALDESC:Events for Northeast Ohio Parent
BEGIN:VTIMEZONE
TZID:America/New_York
BEGIN:DAYLIGHT
TZOFFSETFROM:-0500
TZOFFSETTO:-0400
TZNAME:EDT
DTSTART:20250309T070000
END:DAYLIGHT
BEGIN:STANDARD
TZOFFSETFROM:-0400
TZOFFSETTO:-0500
TZNAME:EST
DTSTART:20251102T060000
END:STANDARD
END:VTIMEZONE
BEGIN:VEVENT
DTSTART;TZID=America/New_York:20251217T170000
DTEND;TZID=America/New_York:20251217T183000
DTSTAMP:20260424T014940
CREATED:20251201T140633Z
LAST-MODIFIED:20251201T140643Z
UID:168924-1765990800-1765996200@www.northeastohioparent.com
SUMMARY:Young Families Chanukah Extravaganza
DESCRIPTION:An evening packed with giggles\, goodies\, and glow\nMagic show\, face painting\, balloon twisting fun\, Chanukah treats and Menorah lighting
URL:https://www.northeastohioparent.com/event/young-families-chanukah-extravaganza/
LOCATION:JFX\, 2200 S Green Road\, Cleveland\, 44121
ATTACH;FMTTYPE=image/jpeg:https://www.northeastohioparent.com/wp-content/uploads/2025/11/YF-Chanukah.jpg
END:VEVENT
END:VCALENDAR