BEGIN:VCALENDAR
VERSION:2.0
PRODID:-//Northeast Ohio Parent - ECPv5.16.4//NONSGML v1.0//EN
CALSCALE:GREGORIAN
METHOD:PUBLISH
X-WR-CALNAME:Northeast Ohio Parent
X-ORIGINAL-URL:https://www.northeastohioparent.com
X-WR-CALDESC:Events for Northeast Ohio Parent
BEGIN:VTIMEZONE
TZID:America/New_York
BEGIN:DAYLIGHT
TZOFFSETFROM:-0500
TZOFFSETTO:-0400
TZNAME:EDT
DTSTART:20250309T070000
END:DAYLIGHT
BEGIN:STANDARD
TZOFFSETFROM:-0400
TZOFFSETTO:-0500
TZNAME:EST
DTSTART:20251102T060000
END:STANDARD
END:VTIMEZONE
BEGIN:VEVENT
DTSTART;VALUE=DATE:20251220
DTEND;VALUE=DATE:20251221
DTSTAMP:20260422T175011
CREATED:20251114T170444Z
LAST-MODIFIED:20251114T170444Z
UID:167437-1766188800-1766275199@www.northeastohioparent.com
SUMMARY:Yuletide Village
DESCRIPTION:Discover sparkling lights\, enjoy festive shows\, savor cozy treats\, and find unique gifts in the Yuletide Market. Fridays 5–9 p.m.\, and Saturdays 3-9 p.m.
URL:https://www.northeastohioparent.com/event/yuletide-village/2025-12-20/
LOCATION:Yuletide Village\, 10542 East State Route 73\, Waynesville\, OH\, United States
CATEGORIES:Holiday,Sale
END:VEVENT
END:VCALENDAR