BEGIN:VCALENDAR
VERSION:2.0
PRODID:-//Northeast Ohio Parent - ECPv5.16.4//NONSGML v1.0//EN
CALSCALE:GREGORIAN
METHOD:PUBLISH
X-WR-CALNAME:Northeast Ohio Parent
X-ORIGINAL-URL:https://www.northeastohioparent.com
X-WR-CALDESC:Events for Northeast Ohio Parent
BEGIN:VTIMEZONE
TZID:America/New_York
BEGIN:DAYLIGHT
TZOFFSETFROM:-0500
TZOFFSETTO:-0400
TZNAME:EDT
DTSTART:20250309T070000
END:DAYLIGHT
BEGIN:STANDARD
TZOFFSETFROM:-0400
TZOFFSETTO:-0500
TZNAME:EST
DTSTART:20251102T060000
END:STANDARD
END:VTIMEZONE
BEGIN:VEVENT
DTSTART;VALUE=DATE:20251231
DTEND;VALUE=DATE:20260101
DTSTAMP:20260423T161658
CREATED:20251114T204515Z
LAST-MODIFIED:20251114T204515Z
UID:167615-1767139200-1767225599@www.northeastohioparent.com
SUMMARY:New Year’s Eve Celebration
DESCRIPTION:Buffet dinner\, open bar\, balloon drop and more. 6:30 p.m. 
URL:https://www.northeastohioparent.com/event/new-years-eve-celebration/
LOCATION:Tangier Restaurant\, 532 W. Market St.\, Akron\, OH\, United States
CATEGORIES:food,New Year's Eve
END:VEVENT
BEGIN:VEVENT
DTSTART;VALUE=DATE:20251231
DTEND;VALUE=DATE:20260101
DTSTAMP:20260423T161658
CREATED:20251114T213852Z
LAST-MODIFIED:20251114T213852Z
UID:167620-1767139200-1767225599@www.northeastohioparent.com
SUMMARY:New Years Eve: Fire & Ice
DESCRIPTION:Live entertainment\, chef curated food and desserts\, LED Photobooth and much more. 8 p.m-1 a.m. 
URL:https://www.northeastohioparent.com/event/new-years-eve-fire-ice/
LOCATION:The Aviator\, 20920 Brookpark Road\, Cleveland\, OH\, United States
CATEGORIES:food,Holiday
END:VEVENT
BEGIN:VEVENT
DTSTART;VALUE=DATE:20251231
DTEND;VALUE=DATE:20260101
DTSTAMP:20260423T161658
CREATED:20251114T214251Z
LAST-MODIFIED:20251114T214251Z
UID:167626-1767139200-1767225599@www.northeastohioparent.com
SUMMARY:Grand New Years Celebration Gala
DESCRIPTION:Wonderful food\, entertainment and drinks in the Grand Ballroom. 7 p.m. 
URL:https://www.northeastohioparent.com/event/grand-new-years-celebration-gala/
LOCATION:Galaxy Restaurant and Banquet Ctr.\, 201 Park Center Dr.\, Wadsworth
CATEGORIES:Dancing,food,New Year's Eve
GEO:41.0477267;-81.7246684
X-APPLE-STRUCTURED-LOCATION;VALUE=URI;X-ADDRESS=Galaxy Restaurant and Banquet Ctr. 201 Park Center Dr. Wadsworth;X-APPLE-RADIUS=500;X-TITLE=201 Park Center Dr.:geo:-81.7246684,41.0477267
END:VEVENT
BEGIN:VEVENT
DTSTART;VALUE=DATE:20251231
DTEND;VALUE=DATE:20260101
DTSTAMP:20260423T161658
CREATED:20251114T214555Z
LAST-MODIFIED:20251114T214555Z
UID:167628-1767139200-1767225599@www.northeastohioparent.com
SUMMARY:New Year’s Eve Celebration at The Lodge at Geneva-on-the-Lake
DESCRIPTION:Come enjoy a grand buffet\, open bar and live entertainment. 
URL:https://www.northeastohioparent.com/event/new-years-eve-celebration-at-the-lodge-at-geneva-on-the-lake/
LOCATION:The Lodge at Geneva-on-the-Lake\, 4888 N. Broadway\, Geneva\, OH\, United States
CATEGORIES:Animals,food,Music,New Year's Eve
END:VEVENT
END:VCALENDAR