BEGIN:VCALENDAR
VERSION:2.0
PRODID:-//Northeast Ohio Parent - ECPv5.16.4//NONSGML v1.0//EN
CALSCALE:GREGORIAN
METHOD:PUBLISH
X-WR-CALNAME:Northeast Ohio Parent
X-ORIGINAL-URL:https://www.northeastohioparent.com
X-WR-CALDESC:Events for Northeast Ohio Parent
BEGIN:VTIMEZONE
TZID:America/New_York
BEGIN:DAYLIGHT
TZOFFSETFROM:-0500
TZOFFSETTO:-0400
TZNAME:EDT
DTSTART:20260308T070000
END:DAYLIGHT
BEGIN:STANDARD
TZOFFSETFROM:-0400
TZOFFSETTO:-0500
TZNAME:EST
DTSTART:20261101T060000
END:STANDARD
END:VTIMEZONE
BEGIN:VEVENT
DTSTART;VALUE=DATE:20260220
DTEND;VALUE=DATE:20260221
DTSTAMP:20260419T081809
CREATED:20260202T201023Z
LAST-MODIFIED:20260202T201023Z
UID:172929-1771545600-1771631999@www.northeastohioparent.com
SUMMARY:Saint Ambrose Parish Fish Fry
DESCRIPTION:Come out for the Saint Ambrose Parish Fish Fry at in Hilkert hall on Ash Wednesday and every Friday during Lent\, including Good Friday. The menu features weekly specials\, and online ordering is available at: www.StAmbrose.us/Fish-Fry\n4:30-7 p.m.
URL:https://www.northeastohioparent.com/event/saint-ambrose-parish-fish-fry/
LOCATION:Saint Ambrose Parish\, 929 Pearl Rd.\, Brunswick\, 44212
CATEGORIES:Culture,food
END:VEVENT
BEGIN:VEVENT
DTSTART;VALUE=DATE:20260220
DTEND;VALUE=DATE:20260221
DTSTAMP:20260419T081809
CREATED:20260211T020521Z
LAST-MODIFIED:20260211T020521Z
UID:173130-1771545600-1771631999@www.northeastohioparent.com
SUMMARY:Maple Sugaring Weekends at Lake Metroparks Farmpark
DESCRIPTION:Discover how maple syrup is produced through hands-on demonstrations and crafts. Take a wagon ride to the sugarhouse to see how maple syrup and sugar are made. Sample maple syrup and candy\, make a maple craft\, help gather sap\, learn how to tap trees and make maple syrup in your own backyard. 9 a.m.-5 p.m. \n  read more
URL:https://www.northeastohioparent.com/event/maple-sugaring-weekends-at-lake-metroparks-farmpark/2026-02-20/
LOCATION:Lake Metoparks Farmpark\, 8800 Euclid Chardon Rd\, Kirtland\, OH\, United States
CATEGORIES:educational,food,Nature
END:VEVENT
END:VCALENDAR