BEGIN:VCALENDAR
VERSION:2.0
PRODID:-//Northeast Ohio Parent - ECPv5.16.4//NONSGML v1.0//EN
CALSCALE:GREGORIAN
METHOD:PUBLISH
X-WR-CALNAME:Northeast Ohio Parent
X-ORIGINAL-URL:https://www.northeastohioparent.com
X-WR-CALDESC:Events for Northeast Ohio Parent
BEGIN:VTIMEZONE
TZID:America/New_York
BEGIN:DAYLIGHT
TZOFFSETFROM:-0500
TZOFFSETTO:-0400
TZNAME:EDT
DTSTART:20260308T070000
END:DAYLIGHT
BEGIN:STANDARD
TZOFFSETFROM:-0400
TZOFFSETTO:-0500
TZNAME:EST
DTSTART:20261101T060000
END:STANDARD
END:VTIMEZONE
BEGIN:VEVENT
DTSTART;VALUE=DATE:20260222
DTEND;VALUE=DATE:20260223
DTSTAMP:20260419T113100
CREATED:20260115T022006Z
LAST-MODIFIED:20260115T022007Z
UID:172168-1771718400-1771804799@www.northeastohioparent.com
SUMMARY:Sap’s-a-Risin!
DESCRIPTION:A free\, family-friendly opportunity to visit Geauga Park District’s sugar house\, sugarbush and lodge to learn maple sugaring methods that have evolved from Native American tradition to modern methods:  read more
URL:https://www.northeastohioparent.com/event/saps-a-risin/2026-02-22/
LOCATION:Swine Creek Reservation\, 16004 Hayes Road\, Middlefield Twp\, Ohio
CATEGORIES:educational,food,Nature
ATTACH;FMTTYPE=image/jpeg:https://www.northeastohioparent.com/wp-content/uploads/2017/03/Maple-Sugaring-Weekends-boy-drilling-hole-to-tap-tree-634x512.jpg
END:VEVENT
END:VCALENDAR