BEGIN:VCALENDAR
VERSION:2.0
PRODID:-//Northeast Ohio Parent - ECPv5.16.4//NONSGML v1.0//EN
CALSCALE:GREGORIAN
METHOD:PUBLISH
X-WR-CALNAME:Northeast Ohio Parent
X-ORIGINAL-URL:https://www.northeastohioparent.com
X-WR-CALDESC:Events for Northeast Ohio Parent
BEGIN:VTIMEZONE
TZID:America/New_York
BEGIN:DAYLIGHT
TZOFFSETFROM:-0500
TZOFFSETTO:-0400
TZNAME:EDT
DTSTART:20260308T070000
END:DAYLIGHT
BEGIN:STANDARD
TZOFFSETFROM:-0400
TZOFFSETTO:-0500
TZNAME:EST
DTSTART:20261101T060000
END:STANDARD
END:VTIMEZONE
BEGIN:VEVENT
DTSTART;VALUE=DATE:20260307
DTEND;VALUE=DATE:20260308
DTSTAMP:20260422T054630
CREATED:20260116T173433Z
LAST-MODIFIED:20260116T173433Z
UID:172346-1772841600-1772927999@www.northeastohioparent.com
SUMMARY:Maple Sugaring
DESCRIPTION:Visit the sugar bush\, explore the tools needed to tap trees\, collect sap and more. 10 a.m.-2:30 p.m.   read more
URL:https://www.northeastohioparent.com/event/maple-sugaring-2/2026-03-07/
LOCATION:Carlisle Reservation\, 12882 Diagonal Road \, LaGrange \, OH\, 44050\, United States
CATEGORIES:food,Nature
GEO:41.299879;-82.1360421
X-APPLE-STRUCTURED-LOCATION;VALUE=URI;X-ADDRESS=Carlisle Reservation 12882 Diagonal Road  LaGrange  OH 44050 United States;X-APPLE-RADIUS=500;X-TITLE=12882 Diagonal Road:geo:-82.1360421,41.299879
END:VEVENT
BEGIN:VEVENT
DTSTART;VALUE=DATE:20260307
DTEND;VALUE=DATE:20260308
DTSTAMP:20260422T054630
CREATED:20260202T201023Z
LAST-MODIFIED:20260202T201023Z
UID:172932-1772841600-1772927999@www.northeastohioparent.com
SUMMARY:Saint Ambrose Parish Fish Fry
DESCRIPTION:Come out for the Saint Ambrose Parish Fish Fry at in Hilkert hall on Ash Wednesday and every Friday during Lent\, including Good Friday. The menu features weekly specials\, and online ordering is available at: www.StAmbrose.us/Fish-Fry\n4:30-7 p.m.
URL:https://www.northeastohioparent.com/event/saint-ambrose-parish-fish-fry/2026-03-07/
LOCATION:Saint Ambrose Parish\, 929 Pearl Rd.\, Brunswick\, 44212
CATEGORIES:Culture,food
END:VEVENT
BEGIN:VEVENT
DTSTART;VALUE=DATE:20260307
DTEND;VALUE=DATE:20260308
DTSTAMP:20260422T054630
CREATED:20260217T194919Z
LAST-MODIFIED:20260217T194919Z
UID:173725-1772841600-1772927999@www.northeastohioparent.com
SUMMARY:Maple Sugar and Pancake Festival
DESCRIPTION:haleJoin the storytellers and artisans in the sugar camp\, forest\, farm\, and village as they bring the rich flavors and traditions of 19th-century spring to life.   read more
URL:https://www.northeastohioparent.com/event/maple-sugar-and-pancake-festival/
LOCATION:Hale Farm & Village\, 2686 Oak Hill Rd.\, Bath\, 44210\, United States
CATEGORIES:Festivals,food,Maple
GEO:41.1927996;-81.5942301
X-APPLE-STRUCTURED-LOCATION;VALUE=URI;X-ADDRESS=Hale Farm & Village 2686 Oak Hill Rd. Bath 44210 United States;X-APPLE-RADIUS=500;X-TITLE=2686 Oak Hill Rd.:geo:-81.5942301,41.1927996
END:VEVENT
END:VCALENDAR