BEGIN:VCALENDAR
VERSION:2.0
PRODID:-//Northeast Ohio Parent - ECPv5.16.4//NONSGML v1.0//EN
CALSCALE:GREGORIAN
METHOD:PUBLISH
X-WR-CALNAME:Northeast Ohio Parent
X-ORIGINAL-URL:https://www.northeastohioparent.com
X-WR-CALDESC:Events for Northeast Ohio Parent
BEGIN:VTIMEZONE
TZID:America/New_York
BEGIN:DAYLIGHT
TZOFFSETFROM:-0500
TZOFFSETTO:-0400
TZNAME:EDT
DTSTART:20260308T070000
END:DAYLIGHT
BEGIN:STANDARD
TZOFFSETFROM:-0400
TZOFFSETTO:-0500
TZNAME:EST
DTSTART:20261101T060000
END:STANDARD
END:VTIMEZONE
BEGIN:VEVENT
DTSTART;VALUE=DATE:20260308
DTEND;VALUE=DATE:20260309
DTSTAMP:20260422T071457
CREATED:20260115T022006Z
LAST-MODIFIED:20260115T022006Z
UID:172172-1772928000-1773014399@www.northeastohioparent.com
SUMMARY:Sap’s-a-Risin!
DESCRIPTION:A free\, family-friendly opportunity to visit Geauga Park District’s sugar house\, sugarbush and lodge to learn maple sugaring methods that have evolved from Native American tradition to modern methods:  read more
URL:https://www.northeastohioparent.com/event/saps-a-risin/2026-03-08/
LOCATION:Swine Creek Reservation\, 16004 Hayes Road\, Middlefield Twp\, Ohio
CATEGORIES:educational,food,Nature
ATTACH;FMTTYPE=image/jpeg:https://www.northeastohioparent.com/wp-content/uploads/2017/03/Maple-Sugaring-Weekends-boy-drilling-hole-to-tap-tree-634x512.jpg
END:VEVENT
BEGIN:VEVENT
DTSTART;VALUE=DATE:20260308
DTEND;VALUE=DATE:20260309
DTSTAMP:20260422T071457
CREATED:20260116T173433Z
LAST-MODIFIED:20260116T173433Z
UID:172347-1772928000-1773014399@www.northeastohioparent.com
SUMMARY:Maple Sugaring
DESCRIPTION:Visit the sugar bush\, explore the tools needed to tap trees\, collect sap and more. 10 a.m.-2:30 p.m.   read more
URL:https://www.northeastohioparent.com/event/maple-sugaring-2/2026-03-08/
LOCATION:Carlisle Reservation\, 12882 Diagonal Road \, LaGrange \, OH\, 44050\, United States
CATEGORIES:food,Nature
GEO:41.299879;-82.1360421
X-APPLE-STRUCTURED-LOCATION;VALUE=URI;X-ADDRESS=Carlisle Reservation 12882 Diagonal Road  LaGrange  OH 44050 United States;X-APPLE-RADIUS=500;X-TITLE=12882 Diagonal Road:geo:-82.1360421,41.299879
END:VEVENT
BEGIN:VEVENT
DTSTART;VALUE=DATE:20260308
DTEND;VALUE=DATE:20260309
DTSTAMP:20260422T071457
CREATED:20260217T194919Z
LAST-MODIFIED:20260217T194919Z
UID:173726-1772928000-1773014399@www.northeastohioparent.com
SUMMARY:Maple Sugar and Pancake Festival
DESCRIPTION:haleJoin the storytellers and artisans in the sugar camp\, forest\, farm\, and village as they bring the rich flavors and traditions of 19th-century spring to life.   read more
URL:https://www.northeastohioparent.com/event/maple-sugar-and-pancake-festival/2026-03-08/
LOCATION:Hale Farm & Village\, 2686 Oak Hill Rd.\, Bath\, 44210\, United States
CATEGORIES:Festivals,food,Maple
GEO:41.1927996;-81.5942301
X-APPLE-STRUCTURED-LOCATION;VALUE=URI;X-ADDRESS=Hale Farm & Village 2686 Oak Hill Rd. Bath 44210 United States;X-APPLE-RADIUS=500;X-TITLE=2686 Oak Hill Rd.:geo:-81.5942301,41.1927996
END:VEVENT
END:VCALENDAR