BEGIN:VCALENDAR
VERSION:2.0
PRODID:-//Northeast Ohio Parent - ECPv5.16.4//NONSGML v1.0//EN
CALSCALE:GREGORIAN
METHOD:PUBLISH
X-WR-CALNAME:Northeast Ohio Parent
X-ORIGINAL-URL:https://www.northeastohioparent.com
X-WR-CALDESC:Events for Northeast Ohio Parent
BEGIN:VTIMEZONE
TZID:America/New_York
BEGIN:DAYLIGHT
TZOFFSETFROM:-0500
TZOFFSETTO:-0400
TZNAME:EDT
DTSTART:20260308T070000
END:DAYLIGHT
BEGIN:STANDARD
TZOFFSETFROM:-0400
TZOFFSETTO:-0500
TZNAME:EST
DTSTART:20261101T060000
END:STANDARD
END:VTIMEZONE
BEGIN:VEVENT
DTSTART;VALUE=DATE:20260314
DTEND;VALUE=DATE:20260315
DTSTAMP:20260422T160008
CREATED:20251120T171821Z
LAST-MODIFIED:20251121T022609Z
UID:168286-1773446400-1773532799@www.northeastohioparent.com
SUMMARY:Pie Day
DESCRIPTION:Celebrate International Pi(e) Day at Historic Zoar Village on March 14\, 2026\, from 11 a.m. to 4 p.m.\, to\ncelebrate the mathematical constant of 3.14 with a variety of fresh\, delicious pies from the Zoar Bakery.  read more
URL:https://www.northeastohioparent.com/event/pie-day/
LOCATION:Historic Zoar Village\, 198 Main St.\, Zoar\, OH\, 44697\, United States
CATEGORIES:food,History
END:VEVENT
BEGIN:VEVENT
DTSTART;VALUE=DATE:20260314
DTEND;VALUE=DATE:20260315
DTSTAMP:20260422T160008
CREATED:20260202T201023Z
LAST-MODIFIED:20260202T201023Z
UID:172933-1773446400-1773532799@www.northeastohioparent.com
SUMMARY:Saint Ambrose Parish Fish Fry
DESCRIPTION:Come out for the Saint Ambrose Parish Fish Fry at in Hilkert hall on Ash Wednesday and every Friday during Lent\, including Good Friday. The menu features weekly specials\, and online ordering is available at: www.StAmbrose.us/Fish-Fry\n4:30-7 p.m.
URL:https://www.northeastohioparent.com/event/saint-ambrose-parish-fish-fry/2026-03-14/
LOCATION:Saint Ambrose Parish\, 929 Pearl Rd.\, Brunswick\, 44212
CATEGORIES:Culture,food
END:VEVENT
BEGIN:VEVENT
DTSTART;VALUE=DATE:20260314
DTEND;VALUE=DATE:20260315
DTSTAMP:20260422T160008
CREATED:20260217T194919Z
LAST-MODIFIED:20260217T194919Z
UID:173732-1773446400-1773532799@www.northeastohioparent.com
SUMMARY:Maple Sugar and Pancake Festival
DESCRIPTION:haleJoin the storytellers and artisans in the sugar camp\, forest\, farm\, and village as they bring the rich flavors and traditions of 19th-century spring to life.   read more
URL:https://www.northeastohioparent.com/event/maple-sugar-and-pancake-festival/2026-03-14/
LOCATION:Hale Farm & Village\, 2686 Oak Hill Rd.\, Bath\, 44210\, United States
CATEGORIES:Festivals,food,Maple
GEO:41.1927996;-81.5942301
X-APPLE-STRUCTURED-LOCATION;VALUE=URI;X-ADDRESS=Hale Farm & Village 2686 Oak Hill Rd. Bath 44210 United States;X-APPLE-RADIUS=500;X-TITLE=2686 Oak Hill Rd.:geo:-81.5942301,41.1927996
END:VEVENT
END:VCALENDAR