BEGIN:VCALENDAR
VERSION:2.0
PRODID:-//Northeast Ohio Parent - ECPv5.16.4//NONSGML v1.0//EN
CALSCALE:GREGORIAN
METHOD:PUBLISH
X-WR-CALNAME:Northeast Ohio Parent
X-ORIGINAL-URL:https://www.northeastohioparent.com
X-WR-CALDESC:Events for Northeast Ohio Parent
BEGIN:VTIMEZONE
TZID:America/New_York
BEGIN:DAYLIGHT
TZOFFSETFROM:-0500
TZOFFSETTO:-0400
TZNAME:EDT
DTSTART:20260308T070000
END:DAYLIGHT
BEGIN:STANDARD
TZOFFSETFROM:-0400
TZOFFSETTO:-0500
TZNAME:EST
DTSTART:20261101T060000
END:STANDARD
END:VTIMEZONE
BEGIN:VEVENT
DTSTART;VALUE=DATE:20260404
DTEND;VALUE=DATE:20260405
DTSTAMP:20260423T185633
CREATED:20260319T221542Z
LAST-MODIFIED:20260319T221542Z
UID:174708-1775260800-1775347199@www.northeastohioparent.com
SUMMARY:Brunch with the Easter Bunny at StoneWater
DESCRIPTION:Highland Heights\, Ohio – Some-bunny very special is to coming to The Rustic Grill at StoneWater on Saturday\, April 4th. From 10 a.m. to 2 p.m. StoneWater will host it’s annual Brunch with the Easter Bunny and Easter Egg Hunt.\n\n“We look forward to our Easter Brunch all year\, says Executive Chef Kathryn Neidus. “It’s a chance for us to celebrate the flavors of spring and bring families together around the table. Our goal is to make every guest feel like they’re celebrating at home\, except without cooking or doing dishes.”\n\nThe =&0=&for Brunch with the Eater=&1=&Bunny=&1=&includes:\n\nAdult Station: Asparagus & Prosciutto Egg Strada\, Banana Bread French Toast Casserole\, Bacon & Sausage\, Smokey Breakfast Hash\, Ham Salad Sandwich on Croissant\, Creamy Orzo Pasta (with Spinach\, Feta Roasted Tomatoes & Basil)\, Chicken Verde Enchiladas\, Mediterranean Spiced Roasted Carrot Salad\, Smoked Salmon & Accoutrements.\n\nKids Station: Scrambled Eggs\, Pancakes\, Bacon/Sausage\, Tator Tots\, Chicken Tenders\, Rigatoni with Butter & Parmesan.\n\nCarving Station: Braised Beef Brisket Served with Au Jus & Horseradish Cream Sauce.\n\nPastries\, Desserts & Beyond Station: Seasonal Fruit Bowl\, Assorted Bagels and Breads with Accoutrements\, Carrot Cake Bites\, M&M Brownie Bites\, Easter Sugar Cookies\, Coconut Cream Bars\, Strawberry Cheesecake Bites.\n\nBrunch with the Eater Bunny costs $40 per adult and $20 per child under 12 (+tax and 20% auto gratuity). Kids under 2 eat for free (beverage not included).\n \n–MORE–\n\nThe Easter Bunny will be present throughout brunch and will be available for iPhone pictures. An Easter Egg Hunt will take place during each seating. Each child will be allocated a certain number of eggs. Families must bring their own baskets.\n\nReservations for Brunch with the Easter Bunny are required. Available reservation times are 10 a.m. and 12:30 p.m. All seatings last 1 hour and 30 minutes. To make a reservation\, call 440.461.4653 x232 or email wneidus@stonewatergolf.com.
URL:https://www.northeastohioparent.com/event/brunch-with-the-easter-bunny-at-stonewater/
LOCATION:The Rustic Grill at StoneWater\, 1 Club Drive\, Highland Heights\, OH\, United States
CATEGORIES:Easter,food
ATTACH;FMTTYPE=image/jpeg:https://www.northeastohioparent.com/wp-content/uploads/2026/03/IMG_3300.jpeg
END:VEVENT
END:VCALENDAR