BEGIN:VCALENDAR
VERSION:2.0
PRODID:-//Northeast Ohio Parent - ECPv5.16.4//NONSGML v1.0//EN
CALSCALE:GREGORIAN
METHOD:PUBLISH
X-WR-CALNAME:Northeast Ohio Parent
X-ORIGINAL-URL:https://www.northeastohioparent.com
X-WR-CALDESC:Events for Northeast Ohio Parent
BEGIN:VTIMEZONE
TZID:America/New_York
BEGIN:DAYLIGHT
TZOFFSETFROM:-0500
TZOFFSETTO:-0400
TZNAME:EDT
DTSTART:20260308T070000
END:DAYLIGHT
BEGIN:STANDARD
TZOFFSETFROM:-0400
TZOFFSETTO:-0500
TZNAME:EST
DTSTART:20261101T060000
END:STANDARD
END:VTIMEZONE
BEGIN:VEVENT
DTSTART;VALUE=DATE:20260510
DTEND;VALUE=DATE:20260511
DTSTAMP:20260425T171954
CREATED:20260417T213746Z
LAST-MODIFIED:20260417T213746Z
UID:191666-1778371200-1778457599@www.northeastohioparent.com
SUMMARY:Mother’s Day Brunch
DESCRIPTION:Enjoy a delicious meal surrounded by the beauty of the Cleveland Botanical Garden. 9 a.m. & 11:30 a.m.   read more
URL:https://www.northeastohioparent.com/event/mothers-day-brunch/
LOCATION:Cleveland Botanical Garden\, 11030 East Blvd.\, Cleveland\, OH\, 44106\, United States
CATEGORIES:food,Garden,Mother's Day
END:VEVENT
END:VCALENDAR