BEGIN:VCALENDAR
VERSION:2.0
PRODID:-//Northeast Ohio Parent - ECPv5.16.4//NONSGML v1.0//EN
CALSCALE:GREGORIAN
METHOD:PUBLISH
X-WR-CALNAME:Northeast Ohio Parent
X-ORIGINAL-URL:https://www.northeastohioparent.com
X-WR-CALDESC:Events for Northeast Ohio Parent
BEGIN:VTIMEZONE
TZID:America/New_York
BEGIN:DAYLIGHT
TZOFFSETFROM:-0500
TZOFFSETTO:-0400
TZNAME:EDT
DTSTART:20250309T070000
END:DAYLIGHT
BEGIN:STANDARD
TZOFFSETFROM:-0400
TZOFFSETTO:-0500
TZNAME:EST
DTSTART:20251102T060000
END:STANDARD
END:VTIMEZONE
BEGIN:VEVENT
DTSTART;VALUE=DATE:20251017
DTEND;VALUE=DATE:20251018
DTSTAMP:20260425T102450
CREATED:20250914T173124Z
LAST-MODIFIED:20250914T173124Z
UID:160624-1760659200-1760745599@www.northeastohioparent.com
SUMMARY:Spooky Science
DESCRIPTION:10/17 opening night\, 10/18 Astronomy Night\, 10/12 Costume Contest Night\, 10/25 Trick-or-treat.
URL:https://www.northeastohioparent.com/event/spooky-science/
LOCATION:Beech Creek Botanical Garden and Nature Preserve\, 11929 Beech St NE\, Alliance\, 44601
CATEGORIES:Garden,Holiday
END:VEVENT
BEGIN:VEVENT
DTSTART;VALUE=DATE:20251017
DTEND;VALUE=DATE:20251018
DTSTAMP:20260425T102450
CREATED:20250914T173406Z
LAST-MODIFIED:20250914T173406Z
UID:160631-1760659200-1760745599@www.northeastohioparent.com
SUMMARY:Halloween Drive Through
DESCRIPTION:Experience playfully frightful sites throughout the park. 6:30-8:30 p.m.
URL:https://www.northeastohioparent.com/event/halloween-drive-through/2025-10-17/
LOCATION:Lake Metroparks Farmpark\, 8800 Euclid Chardon Road\, Kirtland
CATEGORIES:Holiday,Outdoors,Special Events
GEO:41.5811077;-81.3314222
X-APPLE-STRUCTURED-LOCATION;VALUE=URI;X-ADDRESS=Lake Metroparks Farmpark 8800 Euclid Chardon Road Kirtland;X-APPLE-RADIUS=500;X-TITLE=8800 Euclid Chardon Road:geo:-81.3314222,41.5811077
END:VEVENT
BEGIN:VEVENT
DTSTART;VALUE=DATE:20251017
DTEND;VALUE=DATE:20251018
DTSTAMP:20260425T102450
CREATED:20250914T174246Z
LAST-MODIFIED:20250914T174246Z
UID:160647-1760659200-1760745599@www.northeastohioparent.com
SUMMARY:Boo at the Zoo
DESCRIPTION:Family-friendly after-hours Halloween celebration. Walk the Zoo’s decorated paths\, enjoy Halloween-themed experiences\, the Boomerang train\, Trick-or-treat at more than a dozen candy stations\, meet with costumed characters\, and dance the Monster Mash Dance Party. The first 1\,000 guests will receive a free trick-or-treat bag. Tickets are $20 or $69 for a 4-pack. 5-9 p.m.  read more
URL:https://www.northeastohioparent.com/event/boo-at-the-zoo/2025-10-17/
LOCATION:cleveland metropark zoo\, OH\, United States
CATEGORIES:Animals,Holiday,Zoo
ATTACH;FMTTYPE=image/jpeg:https://www.northeastohioparent.com/wp-content/uploads/2014/04/clevelandzoo.jpg
END:VEVENT
END:VCALENDAR