BEGIN:VCALENDAR
VERSION:2.0
PRODID:-//Northeast Ohio Parent - ECPv5.16.4//NONSGML v1.0//EN
CALSCALE:GREGORIAN
METHOD:PUBLISH
X-WR-CALNAME:Northeast Ohio Parent
X-ORIGINAL-URL:https://www.northeastohioparent.com
X-WR-CALDESC:Events for Northeast Ohio Parent
BEGIN:VTIMEZONE
TZID:America/New_York
BEGIN:DAYLIGHT
TZOFFSETFROM:-0500
TZOFFSETTO:-0400
TZNAME:EDT
DTSTART:20250309T070000
END:DAYLIGHT
BEGIN:STANDARD
TZOFFSETFROM:-0400
TZOFFSETTO:-0500
TZNAME:EST
DTSTART:20251102T060000
END:STANDARD
END:VTIMEZONE
BEGIN:VEVENT
DTSTART;VALUE=DATE:20251107
DTEND;VALUE=DATE:20251108
DTSTAMP:20260424T062056
CREATED:20251007T233544Z
LAST-MODIFIED:20251106T141207Z
UID:162471-1762473600-1762559999@www.northeastohioparent.com
SUMMARY:Christkindl Markt
DESCRIPTION:Shop local at the Canton Museum of Art. Featuring more than 60 holiday artisans including jewelry\, pottery\, glass\, metalworks\, fiber and wearables\, holiday decor\, woodworks and more.
URL:https://www.northeastohioparent.com/event/christkindl-markt-2/
LOCATION:Canton Museum of Art\, 1001 Market Ave. N.\, Canton\, OH\, United States
CATEGORIES:Holiday,Museums,Sale
ATTACH;FMTTYPE=image/jpeg:https://www.northeastohioparent.com/wp-content/uploads/2025/10/cristkindl-markt.jpg
END:VEVENT
END:VCALENDAR