BEGIN:VCALENDAR
VERSION:2.0
PRODID:-//Northeast Ohio Parent - ECPv5.16.4//NONSGML v1.0//EN
CALSCALE:GREGORIAN
METHOD:PUBLISH
X-WR-CALNAME:Northeast Ohio Parent
X-ORIGINAL-URL:https://www.northeastohioparent.com
X-WR-CALDESC:Events for Northeast Ohio Parent
BEGIN:VTIMEZONE
TZID:America/New_York
BEGIN:DAYLIGHT
TZOFFSETFROM:-0500
TZOFFSETTO:-0400
TZNAME:EDT
DTSTART:20250309T070000
END:DAYLIGHT
BEGIN:STANDARD
TZOFFSETFROM:-0400
TZOFFSETTO:-0500
TZNAME:EST
DTSTART:20251102T060000
END:STANDARD
END:VTIMEZONE
BEGIN:VEVENT
DTSTART;VALUE=DATE:20251118
DTEND;VALUE=DATE:20251119
DTSTAMP:20260423T161650
CREATED:20251008T003303Z
LAST-MODIFIED:20251008T003303Z
UID:162496-1763424000-1763510399@www.northeastohioparent.com
SUMMARY:Holiday Tree Festival
DESCRIPTION:More than 200 decorated trees\, 85\,000 strings of lights and countless other creations. 
URL:https://www.northeastohioparent.com/event/holiday-tree-festival/2025-11-18/
LOCATION:John S. Knight Center\, 77 East Mill St.\, Akron\, OH\, 44308\, United States
CATEGORIES:Holiday,Special Events
END:VEVENT
BEGIN:VEVENT
DTSTART;VALUE=DATE:20251118
DTEND;VALUE=DATE:20251119
DTSTAMP:20260423T161650
CREATED:20251008T005029Z
LAST-MODIFIED:20251008T005029Z
UID:162507-1763424000-1763510399@www.northeastohioparent.com
SUMMARY:The North Pole Adventure
DESCRIPTION:26-mile\, 90-minute excursion to the enchanting North Pole departing at 5 and 7:55 p.m. 
URL:https://www.northeastohioparent.com/event/the-north-pole-adventure/2025-11-18/
LOCATION:Cuyahoga Valley Scenic Railroad
CATEGORIES:Holiday,Special Events
END:VEVENT
BEGIN:VEVENT
DTSTART;VALUE=DATE:20251118
DTEND;VALUE=DATE:20251119
DTSTAMP:20260423T161650
CREATED:20251114T171203Z
LAST-MODIFIED:20251114T171203Z
UID:167457-1763424000-1763510399@www.northeastohioparent.com
SUMMARY:Wild Winter Lights
DESCRIPTION:Featuring over 1.5 million lights across holiday-themed areas including Enchanted Forest and Santa’s Workshop.   read more
URL:https://www.northeastohioparent.com/event/wild-winter-lights/
LOCATION:Cleveland Metroparks Zoo\, 3900 Wildlife Way\, Cleveland\, OH\, 44109\, United States
CATEGORIES:Holiday,Outdoors,Zoo
GEO:41.445521;-81.7079442
X-APPLE-STRUCTURED-LOCATION;VALUE=URI;X-ADDRESS=Cleveland Metroparks Zoo 3900 Wildlife Way Cleveland OH 44109 United States;X-APPLE-RADIUS=500;X-TITLE=3900 Wildlife Way:geo:-81.7079442,41.445521
END:VEVENT
END:VCALENDAR