BEGIN:VCALENDAR
VERSION:2.0
PRODID:-//Northeast Ohio Parent - ECPv5.16.4//NONSGML v1.0//EN
CALSCALE:GREGORIAN
METHOD:PUBLISH
X-WR-CALNAME:Northeast Ohio Parent
X-ORIGINAL-URL:https://www.northeastohioparent.com
X-WR-CALDESC:Events for Northeast Ohio Parent
BEGIN:VTIMEZONE
TZID:America/New_York
BEGIN:DAYLIGHT
TZOFFSETFROM:-0500
TZOFFSETTO:-0400
TZNAME:EDT
DTSTART:20250309T070000
END:DAYLIGHT
BEGIN:STANDARD
TZOFFSETFROM:-0400
TZOFFSETTO:-0500
TZNAME:EST
DTSTART:20251102T060000
END:STANDARD
END:VTIMEZONE
BEGIN:VEVENT
DTSTART;VALUE=DATE:20251122
DTEND;VALUE=DATE:20251123
DTSTAMP:20260423T064737
CREATED:20251008T003303Z
LAST-MODIFIED:20251008T003303Z
UID:162500-1763769600-1763855999@www.northeastohioparent.com
SUMMARY:Holiday Tree Festival
DESCRIPTION:More than 200 decorated trees\, 85\,000 strings of lights and countless other creations. 
URL:https://www.northeastohioparent.com/event/holiday-tree-festival/2025-11-22/
LOCATION:John S. Knight Center\, 77 East Mill St.\, Akron\, OH\, 44308\, United States
CATEGORIES:Holiday,Special Events
END:VEVENT
BEGIN:VEVENT
DTSTART;VALUE=DATE:20251122
DTEND;VALUE=DATE:20251123
DTSTAMP:20260423T064737
CREATED:20251008T005029Z
LAST-MODIFIED:20251008T005029Z
UID:162511-1763769600-1763855999@www.northeastohioparent.com
SUMMARY:The North Pole Adventure
DESCRIPTION:26-mile\, 90-minute excursion to the enchanting North Pole departing at 5 and 7:55 p.m. 
URL:https://www.northeastohioparent.com/event/the-north-pole-adventure/2025-11-22/
LOCATION:Cuyahoga Valley Scenic Railroad
CATEGORIES:Holiday,Special Events
END:VEVENT
BEGIN:VEVENT
DTSTART;VALUE=DATE:20251122
DTEND;VALUE=DATE:20251123
DTSTAMP:20260423T064737
CREATED:20251008T011504Z
LAST-MODIFIED:20251008T162711Z
UID:162526-1763769600-1763855999@www.northeastohioparent.com
SUMMARY:Tree Lighting Ceremony
DESCRIPTION:Crocker Park will welcome back the 50-foot Christmas tree with its annual tree-lighting ceremony. 6 p.m.  read more
URL:https://www.northeastohioparent.com/event/tree-lighting-ceremony/
LOCATION:Crocker Park\, 177 Market St\, Westlake\, OH 44145\, Westlake\, OH\, USA\, OH\, 44145\, United States
CATEGORIES:Holiday,Outdoors,Special Event
GEO:41.4593613;-81.9509204
X-APPLE-STRUCTURED-LOCATION;VALUE=URI;X-ADDRESS=Crocker Park 177 Market St Westlake OH 44145 Westlake OH USA OH 44145 United States;X-APPLE-RADIUS=500;X-TITLE=177 Market St\, Westlake\, OH 44145:geo:-81.9509204,41.4593613
END:VEVENT
BEGIN:VEVENT
DTSTART;VALUE=DATE:20251122
DTEND;VALUE=DATE:20251123
DTSTAMP:20260423T064737
CREATED:20251008T011939Z
LAST-MODIFIED:20251008T011940Z
UID:162528-1763769600-1763855999@www.northeastohioparent.com
SUMMARY:Beach Glass Christmas Tree Ornament Craft Class
DESCRIPTION:Create a Christmas tree ornament using provided Lake Erie beach glass in Waugaman Gallery at Avon Lake Public Library. 2-3 p.m.   read more
URL:https://www.northeastohioparent.com/event/beach-glass-christmas-tree-ornament-craft-class/
LOCATION:Avon Lake Public Library\, 32649 Electric Blvd.\, Avon Lake\, United States
CATEGORIES:Crafts,Holiday
ATTACH;FMTTYPE=image/jpeg:https://www.northeastohioparent.com/wp-content/uploads/2025/10/ornament.jpg
GEO:41.509885;-82.0127349
X-APPLE-STRUCTURED-LOCATION;VALUE=URI;X-ADDRESS=Avon Lake Public Library 32649 Electric Blvd. Avon Lake United States;X-APPLE-RADIUS=500;X-TITLE=32649 Electric Blvd.:geo:-82.0127349,41.509885
END:VEVENT
BEGIN:VEVENT
DTSTART;VALUE=DATE:20251122
DTEND;VALUE=DATE:20251123
DTSTAMP:20260423T064737
CREATED:20251008T012915Z
LAST-MODIFIED:20251008T012916Z
UID:162531-1763769600-1763855999@www.northeastohioparent.com
SUMMARY:Santa Visits Lehman's
DESCRIPTION:Bring the little ones to meet Santa for a magical visit. Take a photo and soak up the holiday cheer.
URL:https://www.northeastohioparent.com/event/santa-visits-lehmans-2/2025-11-22/
LOCATION:Lehman’s\, 4779 Kidron Road\, Dalton\, United States
CATEGORIES:Holiday,Special Events
ATTACH;FMTTYPE=image/jpeg:https://www.northeastohioparent.com/wp-content/uploads/2019/02/lehmansstorefront.jpg
GEO:40.7419396;-81.7459922
X-APPLE-STRUCTURED-LOCATION;VALUE=URI;X-ADDRESS=Lehman’s 4779 Kidron Road Dalton United States;X-APPLE-RADIUS=500;X-TITLE=4779 Kidron Road:geo:-81.7459922,40.7419396
END:VEVENT
BEGIN:VEVENT
DTSTART;VALUE=DATE:20251122
DTEND;VALUE=DATE:20251123
DTSTAMP:20260423T064737
CREATED:20251011T132328Z
LAST-MODIFIED:20251011T132329Z
UID:162896-1763769600-1763855999@www.northeastohioparent.com
SUMMARY:Candy Land: It’s Wild in Ohio
DESCRIPTION:A FREE indoor family tradition where the Candy Land game comes to life. Enjoy a colorful adventure and discover what’s wild in Ohio. Also\, enjoy a themed craft\, scavenger hunts\, hands-on exhibits and more. Shop for nature-themed gifts and enjoy hot chocolate in Snowshoe Lodge.  read more
URL:https://www.northeastohioparent.com/event/candy-land-its-wild-in-ohio-2/2025-11-22/
LOCATION:Penitentiary Glen Reservation\, 8668 Kirtland Chardon Road\, Willoughby\, OH\, 44094\, United States
CATEGORIES:Crafts,Game,Holiday
ATTACH;FMTTYPE=image/webp:https://www.northeastohioparent.com/wp-content/uploads/2025/10/rainbow.webp
GEO:41.6111026;-81.3322554
X-APPLE-STRUCTURED-LOCATION;VALUE=URI;X-ADDRESS=Penitentiary Glen Reservation 8668 Kirtland Chardon Road Willoughby OH 44094 United States;X-APPLE-RADIUS=500;X-TITLE=8668 Kirtland Chardon Road:geo:-81.3322554,41.6111026
END:VEVENT
BEGIN:VEVENT
DTSTART;VALUE=DATE:20251122
DTEND;VALUE=DATE:20251123
DTSTAMP:20260423T064737
CREATED:20251114T171203Z
LAST-MODIFIED:20251114T171203Z
UID:167461-1763769600-1763855999@www.northeastohioparent.com
SUMMARY:Wild Winter Lights
DESCRIPTION:Featuring over 1.5 million lights across holiday-themed areas including Enchanted Forest and Santa’s Workshop.   read more
URL:https://www.northeastohioparent.com/event/wild-winter-lights/2025-11-22/
LOCATION:Cleveland Metroparks Zoo\, 3900 Wildlife Way\, Cleveland\, OH\, 44109\, United States
CATEGORIES:Holiday,Outdoors,Zoo
GEO:41.445521;-81.7079442
X-APPLE-STRUCTURED-LOCATION;VALUE=URI;X-ADDRESS=Cleveland Metroparks Zoo 3900 Wildlife Way Cleveland OH 44109 United States;X-APPLE-RADIUS=500;X-TITLE=3900 Wildlife Way:geo:-81.7079442,41.445521
END:VEVENT
BEGIN:VEVENT
DTSTART;TZID=America/New_York:20251122T160000
DTEND;TZID=America/New_York:20251122T200000
DTSTAMP:20260423T064737
CREATED:20251113T201040Z
LAST-MODIFIED:20251120T152507Z
UID:165047-1763827200-1763841600@www.northeastohioparent.com
SUMMARY:Crocker Park Tree Lighting
DESCRIPTION:🎄 Let It Glow! Tree Lighting Celebration at Crocker Park\n📅 Saturday\, November 22 | 🕓 4–8PM\n📍 177 Market St\, Westlake\, OH\nKick off the holidays at Crocker Park’s Let It Glow celebration! Enjoy live entertainment from RealPopFusion\, Near West Theatre\, Caliber Dance Company\, and more—plus a visit from Jen & Tim of Star 102 🎶.\n🎅 Santa arrives at 6PM to light the 50-foot tree and lead a festive sing-along!\nExplore a local vendor market\, giveaways\, face painting\, balloon twisting\, and delicious eats from top Cleveland food trucks 🍩🍔.\nAfter the lighting\, enjoy seasonal attractions like the Holiday Express Train 🚂\, Santa Village 🧸\, Sock Slide 🧦\, and Walk-Through Ornament 🎁—plus photo ops with Santa 📸 and dazzling light shows 🌟.\nPresented by Rainbow Restoration\, with support from L.L.Bean\, Royce-U.S. Protection Service\, and Star 102.\n✨ Plan your visit at CrockerPark.com!  read more
URL:https://www.northeastohioparent.com/event/crocker-park-tree-lighting/
LOCATION:Crocker Park\, 177 Market St\, Westlake\, OH 44145\, Westlake\, OH\, USA\, OH\, 44145\, United States
CATEGORIES:Holiday,Special Event
ATTACH;FMTTYPE=image/jpeg:https://www.northeastohioparent.com/wp-content/uploads/2025/11/Real-TL.jpg
GEO:41.4593613;-81.9509204
X-APPLE-STRUCTURED-LOCATION;VALUE=URI;X-ADDRESS=Crocker Park 177 Market St Westlake OH 44145 Westlake OH USA OH 44145 United States;X-APPLE-RADIUS=500;X-TITLE=177 Market St\, Westlake\, OH 44145:geo:-81.9509204,41.4593613
END:VEVENT
END:VCALENDAR