BEGIN:VCALENDAR
VERSION:2.0
PRODID:-//Northeast Ohio Parent - ECPv5.16.4//NONSGML v1.0//EN
CALSCALE:GREGORIAN
METHOD:PUBLISH
X-WR-CALNAME:Northeast Ohio Parent
X-ORIGINAL-URL:https://www.northeastohioparent.com
X-WR-CALDESC:Events for Northeast Ohio Parent
BEGIN:VTIMEZONE
TZID:America/New_York
BEGIN:DAYLIGHT
TZOFFSETFROM:-0500
TZOFFSETTO:-0400
TZNAME:EDT
DTSTART:20250309T070000
END:DAYLIGHT
BEGIN:STANDARD
TZOFFSETFROM:-0400
TZOFFSETTO:-0500
TZNAME:EST
DTSTART:20251102T060000
END:STANDARD
END:VTIMEZONE
BEGIN:VEVENT
DTSTART;VALUE=DATE:20251202
DTEND;VALUE=DATE:20251203
DTSTAMP:20260422T175011
CREATED:20251008T013225Z
LAST-MODIFIED:20251008T013225Z
UID:162542-1764633600-1764719999@www.northeastohioparent.com
SUMMARY:Christmas Photo Shop
DESCRIPTION:Let John’s Country Nursery provide the perfect background for your Christmas pictures. 
URL:https://www.northeastohioparent.com/event/christmas-photo-shop/2025-12-02/
LOCATION:John’s Country Nursery\, 15808 Old State Rd.\, Middlefield\, OH\, United States
CATEGORIES:Holiday,Outdoors
END:VEVENT
BEGIN:VEVENT
DTSTART;VALUE=DATE:20251202
DTEND;VALUE=DATE:20251203
DTSTAMP:20260422T175011
CREATED:20251008T013450Z
LAST-MODIFIED:20251008T013450Z
UID:162551-1764633600-1764719999@www.northeastohioparent.com
SUMMARY:Magic of Lights
DESCRIPTION:Family-friendly drive-through of holiday lights. 
URL:https://www.northeastohioparent.com/event/magic-of-lights-2/2025-12-02/
LOCATION:Victory Park  Ohio\, 7777 Victory Lane\, North Ridgreville
CATEGORIES:Holiday,Parks,Special Events
GEO:41.3785164;-81.97696
X-APPLE-STRUCTURED-LOCATION;VALUE=URI;X-ADDRESS=Victory Park  Ohio 7777 Victory Lane North Ridgreville;X-APPLE-RADIUS=500;X-TITLE=7777 Victory Lane:geo:-81.97696,41.3785164
END:VEVENT
BEGIN:VEVENT
DTSTART;VALUE=DATE:20251202
DTEND;VALUE=DATE:20251203
DTSTAMP:20260422T175011
CREATED:20251008T013915Z
LAST-MODIFIED:20251008T013915Z
UID:162565-1764633600-1764719999@www.northeastohioparent.com
SUMMARY:A Christmas Carol
DESCRIPTION:Open your heart to Charles Dickens’ classic tale of one man’s ultimate redemption. 
URL:https://www.northeastohioparent.com/event/a-christmas-carol-3/2025-12-02/
LOCATION:Mimi Ohio Theatre\, 1511 Euclid Ave\, Cleveland\, OH 44115\, OH\, United States
CATEGORIES:Holiday,Theater
END:VEVENT
BEGIN:VEVENT
DTSTART;VALUE=DATE:20251202
DTEND;VALUE=DATE:20251203
DTSTAMP:20260422T175011
CREATED:20251008T014539Z
LAST-MODIFIED:20251008T014539Z
UID:162579-1764633600-1764719999@www.northeastohioparent.com
SUMMARY:Wild Lights
DESCRIPTION:Wild Lights\, the Akron Zoo’s popular holiday lighting event\, runs Nov. 28 through Dec. 30. The zoo is decorated in more than one million lights\, with a refreshed look for this year. Guests can visit with Santa through Dec. 30\, and the Grinch will be onsite every evening.  read more
URL:https://www.northeastohioparent.com/event/wild-lights-2/2025-12-02/
LOCATION:Akron Zoo\, 505 Euclid Ave\, Akron\, OH\, 44307\, United States
CATEGORIES:Holiday,Zoo
ATTACH;FMTTYPE=image/jpeg:https://www.northeastohioparent.com/wp-content/uploads/2025/10/Wild-Lights-at-the-Akron-Zoo.jpg
END:VEVENT
BEGIN:VEVENT
DTSTART;VALUE=DATE:20251202
DTEND;VALUE=DATE:20251203
DTSTAMP:20260422T175011
CREATED:20251008T185631Z
LAST-MODIFIED:20251008T185631Z
UID:162643-1764633600-1764719999@www.northeastohioparent.com
SUMMARY:Holiday Ice & Lights Festival
DESCRIPTION:Bundle up and head outside to sit on Santa’s ice throne. Also\, check out some of northeast Ohio’s best ice carvers in action. There will be plenty of photo opportunities.  read more
URL:https://www.northeastohioparent.com/event/holiday-ice-lights-festival/2025-12-02/
LOCATION:Lake Metroparks Farmpark\, 8800 Euclid Chardon Road\, Kirtland
CATEGORIES:Holiday,Outdoors,Parks
ATTACH;FMTTYPE=image/jpeg:https://www.northeastohioparent.com/wp-content/uploads/2025/10/Ice-carving-634-Earl-Linaburg.jpg
GEO:41.5811077;-81.3314222
X-APPLE-STRUCTURED-LOCATION;VALUE=URI;X-ADDRESS=Lake Metroparks Farmpark 8800 Euclid Chardon Road Kirtland;X-APPLE-RADIUS=500;X-TITLE=8800 Euclid Chardon Road:geo:-81.3314222,41.5811077
END:VEVENT
BEGIN:VEVENT
DTSTART;VALUE=DATE:20251202
DTEND;VALUE=DATE:20251203
DTSTAMP:20260422T175011
CREATED:20251008T190819Z
LAST-MODIFIED:20251008T190819Z
UID:162681-1764633600-1764719999@www.northeastohioparent.com
SUMMARY:Deck the Hall
DESCRIPTION:Come see the estate illuminated with over one million lights on select evenings. 
URL:https://www.northeastohioparent.com/event/deck-the-hall/2025-12-02/
LOCATION:Stan Hywet Hall & Gardens\, 714 N. Portage Path\, Akron\, United States
CATEGORIES:Garden,Holiday
GEO:41.1167062;-81.5487411
X-APPLE-STRUCTURED-LOCATION;VALUE=URI;X-ADDRESS=Stan Hywet Hall & Gardens 714 N. Portage Path Akron United States;X-APPLE-RADIUS=500;X-TITLE=714 N. Portage Path:geo:-81.5487411,41.1167062
END:VEVENT
BEGIN:VEVENT
DTSTART;VALUE=DATE:20251202
DTEND;VALUE=DATE:20251203
DTSTAMP:20260422T175011
CREATED:20251008T192226Z
LAST-MODIFIED:20251008T192226Z
UID:162697-1764633600-1764719999@www.northeastohioparent.com
SUMMARY:Ballet Theatre of Ohio presents “The Nutcracker”
DESCRIPTION:The Nutcracker will be brought to life through ballet for the delight of Northeast Ohio audiences for the 33rd consecutive year. This production has been voted Akron’s favorite holiday show for it’s dazzling dancers\, stunning costumes\, and breathtaking sets. Audience members of all ages will enjoy this performance.  Be transported to a beautiful Victorian Christmas and swept away by Tchaikovsky’s brilliant score into Clara’s magical dream.  read more
URL:https://www.northeastohioparent.com/event/ballet-theatre-of-ohio-presents-the-nutcracker/2025-12-02/
LOCATION:Akron Civic Theater\, 182 S. Main Street\, Akron\, OH\, United States
CATEGORIES:Dancing,Holiday,Theater
ATTACH;FMTTYPE=image/jpeg:https://www.northeastohioparent.com/wp-content/uploads/2025/10/nutcracker.jpg
END:VEVENT
BEGIN:VEVENT
DTSTART;VALUE=DATE:20251202
DTEND;VALUE=DATE:20251203
DTSTAMP:20260422T175011
CREATED:20251008T192619Z
LAST-MODIFIED:20251008T192619Z
UID:162706-1764633600-1764719999@www.northeastohioparent.com
SUMMARY:Nature’s A-Glow
DESCRIPTION:The beautiful botanical garden turns it into a winter wonderland. Fridays-Sundays. 5-9 p.m. 
URL:https://www.northeastohioparent.com/event/natures-a-glow/2025-12-02/
LOCATION:Beech Creek Botanical Garden and Nature Preserve\, 11929 Beech St NE\, Alliance\, 44601
CATEGORIES:Garden,Holiday
END:VEVENT
BEGIN:VEVENT
DTSTART;VALUE=DATE:20251202
DTEND;VALUE=DATE:20251203
DTSTAMP:20260422T175011
CREATED:20251008T192821Z
LAST-MODIFIED:20251008T192821Z
UID:162717-1764633600-1764719999@www.northeastohioparent.com
SUMMARY:A Christmas Story
DESCRIPTION:The record-breaking show returns in all its pink-bunny-suit\, glowing-leg-lamp\, triple-dog-daring glory.   read more
URL:https://www.northeastohioparent.com/event/a-christmas-story-2/2025-12-02/
LOCATION:Allen Theatre at Playhouse Square\,  1407 Euclid Ave.\, Cleveland
CATEGORIES:Holiday,Theater
GEO:41.5012239;-81.681426
X-APPLE-STRUCTURED-LOCATION;VALUE=URI;X-ADDRESS=Allen Theatre at Playhouse Square  1407 Euclid Ave. Cleveland;X-APPLE-RADIUS=500;X-TITLE=1407 Euclid Ave.:geo:-81.681426,41.5012239
END:VEVENT
BEGIN:VEVENT
DTSTART;VALUE=DATE:20251202
DTEND;VALUE=DATE:20251203
DTSTAMP:20260422T175011
CREATED:20251011T132328Z
LAST-MODIFIED:20251011T132328Z
UID:162908-1764633600-1764719999@www.northeastohioparent.com
SUMMARY:Candy Land: It’s Wild in Ohio
DESCRIPTION:A FREE indoor family tradition where the Candy Land game comes to life. Enjoy a colorful adventure and discover what’s wild in Ohio. Also\, enjoy a themed craft\, scavenger hunts\, hands-on exhibits and more. Shop for nature-themed gifts and enjoy hot chocolate in Snowshoe Lodge.  read more
URL:https://www.northeastohioparent.com/event/candy-land-its-wild-in-ohio-2/2025-12-02/
LOCATION:Penitentiary Glen Reservation\, 8668 Kirtland Chardon Road\, Willoughby\, OH\, 44094\, United States
CATEGORIES:Crafts,Game,Holiday
ATTACH;FMTTYPE=image/webp:https://www.northeastohioparent.com/wp-content/uploads/2025/10/rainbow.webp
GEO:41.6111026;-81.3322554
X-APPLE-STRUCTURED-LOCATION;VALUE=URI;X-ADDRESS=Penitentiary Glen Reservation 8668 Kirtland Chardon Road Willoughby OH 44094 United States;X-APPLE-RADIUS=500;X-TITLE=8668 Kirtland Chardon Road:geo:-81.3322554,41.6111026
END:VEVENT
BEGIN:VEVENT
DTSTART;VALUE=DATE:20251202
DTEND;VALUE=DATE:20251203
DTSTAMP:20260422T175011
CREATED:20251114T171030Z
LAST-MODIFIED:20251114T171030Z
UID:167446-1764633600-1764719999@www.northeastohioparent.com
SUMMARY:The North Pole Adventure
DESCRIPTION:26-mile\, 90-minute excursion to the enchanting North Pole.
URL:https://www.northeastohioparent.com/event/the-north-pole-adventure-3/2025-12-02/
LOCATION:Cuyahoga Valley Scenic Railroad\, Rockside Station\, 7900 Old Rockside Road\, Independence
CATEGORIES:Holiday,Special Event
GEO:41.3942031;-81.631015
X-APPLE-STRUCTURED-LOCATION;VALUE=URI;X-ADDRESS=Cuyahoga Valley Scenic Railroad Rockside Station 7900 Old Rockside Road Independence;X-APPLE-RADIUS=500;X-TITLE=7900 Old Rockside Road:geo:-81.631015,41.3942031
END:VEVENT
BEGIN:VEVENT
DTSTART;VALUE=DATE:20251202
DTEND;VALUE=DATE:20251203
DTSTAMP:20260422T175011
CREATED:20251114T173510Z
LAST-MODIFIED:20251114T173510Z
UID:167494-1764633600-1764719999@www.northeastohioparent.com
SUMMARY:Black Nativity
DESCRIPTION:Joyous retelling of the traditional new testament account of the nativity story\, using gospel music\, dramatic dance and more.   read more
URL:https://www.northeastohioparent.com/event/black-nativity/2025-12-02/
LOCATION:Allen Theatre at Playhouse Square\,  1407 Euclid Ave.\, Cleveland
CATEGORIES:Holiday,Music,Theater
GEO:41.5012239;-81.681426
X-APPLE-STRUCTURED-LOCATION;VALUE=URI;X-ADDRESS=Allen Theatre at Playhouse Square  1407 Euclid Ave. Cleveland;X-APPLE-RADIUS=500;X-TITLE=1407 Euclid Ave.:geo:-81.681426,41.5012239
END:VEVENT
BEGIN:VEVENT
DTSTART;VALUE=DATE:20251202
DTEND;VALUE=DATE:20251203
DTSTAMP:20260422T175011
CREATED:20251114T173644Z
LAST-MODIFIED:20251114T173644Z
UID:167505-1764633600-1764719999@www.northeastohioparent.com
SUMMARY:Tree Lighting Ceremony
DESCRIPTION:Santa will arrive in his horse drawn carriage and local choirs will sing holiday favorites at this free event. 6-6:30 p.m.   read more
URL:https://www.northeastohioparent.com/event/tree-lighting-ceremony-2/
LOCATION:Mentor Municipal Center\, 8500 Civic Center Boulevard\, Mentor\, 44060
CATEGORIES:Holiday,Outdoors
GEO:41.69761;-81.333535
X-APPLE-STRUCTURED-LOCATION;VALUE=URI;X-ADDRESS=Mentor Municipal Center 8500 Civic Center Boulevard Mentor 44060;X-APPLE-RADIUS=500;X-TITLE=8500 Civic Center Boulevard:geo:-81.333535,41.69761
END:VEVENT
BEGIN:VEVENT
DTSTART;VALUE=DATE:20251202
DTEND;VALUE=DATE:20251203
DTSTAMP:20260422T175011
CREATED:20251114T173815Z
LAST-MODIFIED:20251114T173815Z
UID:167507-1764633600-1764719999@www.northeastohioparent.com
SUMMARY:Celebration of Kwanzaa
DESCRIPTION:Explore the elements of Kwanzaa and make a craft. 6:30-7:30 p.m. 
URL:https://www.northeastohioparent.com/event/celebration-of-kwanzaa/
LOCATION:Willoughby Public Library\, 30 Public Square\, Willoughby\, 44094
CATEGORIES:Crafts,Culture,Holiday
END:VEVENT
END:VCALENDAR