BEGIN:VCALENDAR
VERSION:2.0
PRODID:-//Northeast Ohio Parent - ECPv5.16.4//NONSGML v1.0//EN
CALSCALE:GREGORIAN
METHOD:PUBLISH
X-WR-CALNAME:Northeast Ohio Parent
X-ORIGINAL-URL:https://www.northeastohioparent.com
X-WR-CALDESC:Events for Northeast Ohio Parent
BEGIN:VTIMEZONE
TZID:America/New_York
BEGIN:DAYLIGHT
TZOFFSETFROM:-0500
TZOFFSETTO:-0400
TZNAME:EDT
DTSTART:20250309T070000
END:DAYLIGHT
BEGIN:STANDARD
TZOFFSETFROM:-0400
TZOFFSETTO:-0500
TZNAME:EST
DTSTART:20251102T060000
END:STANDARD
END:VTIMEZONE
BEGIN:VEVENT
DTSTART;VALUE=DATE:20251211
DTEND;VALUE=DATE:20251212
DTSTAMP:20260422T042548
CREATED:20251008T014539Z
LAST-MODIFIED:20251008T014539Z
UID:162588-1765411200-1765497599@www.northeastohioparent.com
SUMMARY:Wild Lights
DESCRIPTION:Wild Lights\, the Akron Zoo’s popular holiday lighting event\, runs Nov. 28 through Dec. 30. The zoo is decorated in more than one million lights\, with a refreshed look for this year. Guests can visit with Santa through Dec. 30\, and the Grinch will be onsite every evening.  read more
URL:https://www.northeastohioparent.com/event/wild-lights-2/2025-12-11/
LOCATION:Akron Zoo\, 505 Euclid Ave\, Akron\, OH\, 44307\, United States
CATEGORIES:Holiday,Zoo
ATTACH;FMTTYPE=image/jpeg:https://www.northeastohioparent.com/wp-content/uploads/2025/10/Wild-Lights-at-the-Akron-Zoo.jpg
END:VEVENT
BEGIN:VEVENT
DTSTART;VALUE=DATE:20251211
DTEND;VALUE=DATE:20251212
DTSTAMP:20260422T042548
CREATED:20251008T185631Z
LAST-MODIFIED:20251008T185631Z
UID:162652-1765411200-1765497599@www.northeastohioparent.com
SUMMARY:Holiday Ice & Lights Festival
DESCRIPTION:Bundle up and head outside to sit on Santa’s ice throne. Also\, check out some of northeast Ohio’s best ice carvers in action. There will be plenty of photo opportunities.  read more
URL:https://www.northeastohioparent.com/event/holiday-ice-lights-festival/2025-12-11/
LOCATION:Lake Metroparks Farmpark\, 8800 Euclid Chardon Road\, Kirtland
CATEGORIES:Holiday,Outdoors,Parks
ATTACH;FMTTYPE=image/jpeg:https://www.northeastohioparent.com/wp-content/uploads/2025/10/Ice-carving-634-Earl-Linaburg.jpg
GEO:41.5811077;-81.3314222
X-APPLE-STRUCTURED-LOCATION;VALUE=URI;X-ADDRESS=Lake Metroparks Farmpark 8800 Euclid Chardon Road Kirtland;X-APPLE-RADIUS=500;X-TITLE=8800 Euclid Chardon Road:geo:-81.3314222,41.5811077
END:VEVENT
BEGIN:VEVENT
DTSTART;VALUE=DATE:20251211
DTEND;VALUE=DATE:20251212
DTSTAMP:20260422T042548
CREATED:20251011T132328Z
LAST-MODIFIED:20251011T132328Z
UID:162917-1765411200-1765497599@www.northeastohioparent.com
SUMMARY:Candy Land: It’s Wild in Ohio
DESCRIPTION:A FREE indoor family tradition where the Candy Land game comes to life. Enjoy a colorful adventure and discover what’s wild in Ohio. Also\, enjoy a themed craft\, scavenger hunts\, hands-on exhibits and more. Shop for nature-themed gifts and enjoy hot chocolate in Snowshoe Lodge.  read more
URL:https://www.northeastohioparent.com/event/candy-land-its-wild-in-ohio-2/2025-12-11/
LOCATION:Penitentiary Glen Reservation\, 8668 Kirtland Chardon Road\, Willoughby\, OH\, 44094\, United States
CATEGORIES:Crafts,Game,Holiday
ATTACH;FMTTYPE=image/webp:https://www.northeastohioparent.com/wp-content/uploads/2025/10/rainbow.webp
GEO:41.6111026;-81.3322554
X-APPLE-STRUCTURED-LOCATION;VALUE=URI;X-ADDRESS=Penitentiary Glen Reservation 8668 Kirtland Chardon Road Willoughby OH 44094 United States;X-APPLE-RADIUS=500;X-TITLE=8668 Kirtland Chardon Road:geo:-81.3322554,41.6111026
END:VEVENT
BEGIN:VEVENT
DTSTART;VALUE=DATE:20251211
DTEND;VALUE=DATE:20251212
DTSTAMP:20260422T042548
CREATED:20251114T171030Z
LAST-MODIFIED:20251114T171030Z
UID:167455-1765411200-1765497599@www.northeastohioparent.com
SUMMARY:The North Pole Adventure
DESCRIPTION:26-mile\, 90-minute excursion to the enchanting North Pole.
URL:https://www.northeastohioparent.com/event/the-north-pole-adventure-3/2025-12-11/
LOCATION:Cuyahoga Valley Scenic Railroad\, Rockside Station\, 7900 Old Rockside Road\, Independence
CATEGORIES:Holiday,Special Event
GEO:41.3942031;-81.631015
X-APPLE-STRUCTURED-LOCATION;VALUE=URI;X-ADDRESS=Cuyahoga Valley Scenic Railroad Rockside Station 7900 Old Rockside Road Independence;X-APPLE-RADIUS=500;X-TITLE=7900 Old Rockside Road:geo:-81.631015,41.3942031
END:VEVENT
BEGIN:VEVENT
DTSTART;VALUE=DATE:20251211
DTEND;VALUE=DATE:20251212
DTSTAMP:20260422T042548
CREATED:20251114T171511Z
LAST-MODIFIED:20251114T171511Z
UID:167473-1765411200-1765497599@www.northeastohioparent.com
SUMMARY:Magic of Lights
DESCRIPTION:Family-friendly drive-through of holiday lights. 
URL:https://www.northeastohioparent.com/event/magic-of-lights-4/2025-12-11/
LOCATION:Victory Park  Ohio\, 7777 Victory Lane\, North Ridgreville
CATEGORIES:Holiday,Outdoors,Parks
GEO:41.3785164;-81.97696
X-APPLE-STRUCTURED-LOCATION;VALUE=URI;X-ADDRESS=Victory Park  Ohio 7777 Victory Lane North Ridgreville;X-APPLE-RADIUS=500;X-TITLE=7777 Victory Lane:geo:-81.97696,41.3785164
END:VEVENT
BEGIN:VEVENT
DTSTART;VALUE=DATE:20251211
DTEND;VALUE=DATE:20251212
DTSTAMP:20260422T042548
CREATED:20251114T173510Z
LAST-MODIFIED:20251114T173510Z
UID:167503-1765411200-1765497599@www.northeastohioparent.com
SUMMARY:Black Nativity
DESCRIPTION:Joyous retelling of the traditional new testament account of the nativity story\, using gospel music\, dramatic dance and more.   read more
URL:https://www.northeastohioparent.com/event/black-nativity/2025-12-11/
LOCATION:Allen Theatre at Playhouse Square\,  1407 Euclid Ave.\, Cleveland
CATEGORIES:Holiday,Music,Theater
GEO:41.5012239;-81.681426
X-APPLE-STRUCTURED-LOCATION;VALUE=URI;X-ADDRESS=Allen Theatre at Playhouse Square  1407 Euclid Ave. Cleveland;X-APPLE-RADIUS=500;X-TITLE=1407 Euclid Ave.:geo:-81.681426,41.5012239
END:VEVENT
BEGIN:VEVENT
DTSTART;VALUE=DATE:20251211
DTEND;VALUE=DATE:20251212
DTSTAMP:20260422T042548
CREATED:20251114T174038Z
LAST-MODIFIED:20251114T174038Z
UID:167515-1765411200-1765497599@www.northeastohioparent.com
SUMMARY:Deck the Hall
DESCRIPTION:Come see the estate illuminated with over one million lights on select evenings. 
URL:https://www.northeastohioparent.com/event/deck-the-hall-2/2025-12-11/
LOCATION:Stan Hwyet Hall & Gardens\, 714 North Portage Path\, Akron\, OH\, 44303\, United States
CATEGORIES:Garden,Holiday
END:VEVENT
BEGIN:VEVENT
DTSTART;VALUE=DATE:20251211
DTEND;VALUE=DATE:20251212
DTSTAMP:20260422T042548
CREATED:20251114T200121Z
LAST-MODIFIED:20251114T200421Z
UID:167561-1765411200-1765497599@www.northeastohioparent.com
SUMMARY:How the Grinch Stole Christmas
DESCRIPTION:A magical Dr. Seuss’ classic holiday tale comes to life on stage as a musical. Guests will hear hit songs “You’re A Mean One\, Mr. Grinch” and “Welcome Christmas.” The Grinch discovers there’s more to Christmas than he expected in this heart-warming holiday classic. Max the Dog narrates as the Grinch\, whose heart is “two sizes too small\,” tries to steal Christmas away from the Whos\, an endlessly cheerful bunch bursting with holiday spirit. The New York Times calls this show\, “100 times better than any bedtime story!”  read more
URL:https://www.northeastohioparent.com/event/how-the-grinch-stole-christmas/2025-12-11/
LOCATION:Key Bank State Theatre\, Playhouse Square\, 1519 Euclid Ave.\, Cleveland\, OH\, United States
CATEGORIES:Holiday,Theater
ATTACH;FMTTYPE=image/webp:https://www.northeastohioparent.com/wp-content/uploads/2025/11/Grinch-Who-Stole-Christmas.webp
END:VEVENT
END:VCALENDAR