BEGIN:VCALENDAR
VERSION:2.0
PRODID:-//Northeast Ohio Parent - ECPv5.16.4//NONSGML v1.0//EN
CALSCALE:GREGORIAN
METHOD:PUBLISH
X-WR-CALNAME:Northeast Ohio Parent
X-ORIGINAL-URL:https://www.northeastohioparent.com
X-WR-CALDESC:Events for Northeast Ohio Parent
BEGIN:VTIMEZONE
TZID:America/New_York
BEGIN:DAYLIGHT
TZOFFSETFROM:-0500
TZOFFSETTO:-0400
TZNAME:EDT
DTSTART:20250309T070000
END:DAYLIGHT
BEGIN:STANDARD
TZOFFSETFROM:-0400
TZOFFSETTO:-0500
TZNAME:EST
DTSTART:20251102T060000
END:STANDARD
END:VTIMEZONE
BEGIN:VEVENT
DTSTART;VALUE=DATE:20251212
DTEND;VALUE=DATE:20251213
DTSTAMP:20260422T030515
CREATED:20251007T233756Z
LAST-MODIFIED:20251007T233756Z
UID:162476-1765497600-1765583999@www.northeastohioparent.com
SUMMARY:Country Lights Drive-Thru
DESCRIPTION:Enjoy the festivities from the warmth of your own vehicles. 6-8:30 p.m.
URL:https://www.northeastohioparent.com/event/country-lights-drive-thru/2025-12-12/
LOCATION:Lake Metoparks Farmpark\, 8800 Euclid Chardon Rd\, Kirtland\, OH\, United States
CATEGORIES:Holiday,Outdoors
END:VEVENT
BEGIN:VEVENT
DTSTART;VALUE=DATE:20251212
DTEND;VALUE=DATE:20251213
DTSTAMP:20260422T030515
CREATED:20251008T014539Z
LAST-MODIFIED:20251008T014539Z
UID:162589-1765497600-1765583999@www.northeastohioparent.com
SUMMARY:Wild Lights
DESCRIPTION:Wild Lights\, the Akron Zoo’s popular holiday lighting event\, runs Nov. 28 through Dec. 30. The zoo is decorated in more than one million lights\, with a refreshed look for this year. Guests can visit with Santa through Dec. 30\, and the Grinch will be onsite every evening.  read more
URL:https://www.northeastohioparent.com/event/wild-lights-2/2025-12-12/
LOCATION:Akron Zoo\, 505 Euclid Ave\, Akron\, OH\, 44307\, United States
CATEGORIES:Holiday,Zoo
ATTACH;FMTTYPE=image/jpeg:https://www.northeastohioparent.com/wp-content/uploads/2025/10/Wild-Lights-at-the-Akron-Zoo.jpg
END:VEVENT
BEGIN:VEVENT
DTSTART;VALUE=DATE:20251212
DTEND;VALUE=DATE:20251213
DTSTAMP:20260422T030515
CREATED:20251008T185631Z
LAST-MODIFIED:20251008T185631Z
UID:162653-1765497600-1765583999@www.northeastohioparent.com
SUMMARY:Holiday Ice & Lights Festival
DESCRIPTION:Bundle up and head outside to sit on Santa’s ice throne. Also\, check out some of northeast Ohio’s best ice carvers in action. There will be plenty of photo opportunities.  read more
URL:https://www.northeastohioparent.com/event/holiday-ice-lights-festival/2025-12-12/
LOCATION:Lake Metroparks Farmpark\, 8800 Euclid Chardon Road\, Kirtland
CATEGORIES:Holiday,Outdoors,Parks
ATTACH;FMTTYPE=image/jpeg:https://www.northeastohioparent.com/wp-content/uploads/2025/10/Ice-carving-634-Earl-Linaburg.jpg
GEO:41.5811077;-81.3314222
X-APPLE-STRUCTURED-LOCATION;VALUE=URI;X-ADDRESS=Lake Metroparks Farmpark 8800 Euclid Chardon Road Kirtland;X-APPLE-RADIUS=500;X-TITLE=8800 Euclid Chardon Road:geo:-81.3314222,41.5811077
END:VEVENT
BEGIN:VEVENT
DTSTART;VALUE=DATE:20251212
DTEND;VALUE=DATE:20251213
DTSTAMP:20260422T030515
CREATED:20251011T132328Z
LAST-MODIFIED:20251011T132328Z
UID:162918-1765497600-1765583999@www.northeastohioparent.com
SUMMARY:Candy Land: It’s Wild in Ohio
DESCRIPTION:A FREE indoor family tradition where the Candy Land game comes to life. Enjoy a colorful adventure and discover what’s wild in Ohio. Also\, enjoy a themed craft\, scavenger hunts\, hands-on exhibits and more. Shop for nature-themed gifts and enjoy hot chocolate in Snowshoe Lodge.  read more
URL:https://www.northeastohioparent.com/event/candy-land-its-wild-in-ohio-2/2025-12-12/
LOCATION:Penitentiary Glen Reservation\, 8668 Kirtland Chardon Road\, Willoughby\, OH\, 44094\, United States
CATEGORIES:Crafts,Game,Holiday
ATTACH;FMTTYPE=image/webp:https://www.northeastohioparent.com/wp-content/uploads/2025/10/rainbow.webp
GEO:41.6111026;-81.3322554
X-APPLE-STRUCTURED-LOCATION;VALUE=URI;X-ADDRESS=Penitentiary Glen Reservation 8668 Kirtland Chardon Road Willoughby OH 44094 United States;X-APPLE-RADIUS=500;X-TITLE=8668 Kirtland Chardon Road:geo:-81.3322554,41.6111026
END:VEVENT
BEGIN:VEVENT
DTSTART;VALUE=DATE:20251212
DTEND;VALUE=DATE:20251215
DTSTAMP:20260422T030515
CREATED:20251111T173117Z
LAST-MODIFIED:20251125T175147Z
UID:168834-1765497600-1765756799@www.northeastohioparent.com
SUMMARY:Event of the Week: Lake Metroparks Farmpark Country Lights Drive-thru
DESCRIPTION:Seasonal splendor and festive fun are just around the corner at Lake Metroparks Farmpark with the return of the Country Lights Drive-thru! Families can enjoy a sparkling winter wonderland from the comfort of their own vehicles\, taking in the magic of the season without stepping outside or facing the chilly weather.  read more
URL:https://www.northeastohioparent.com/event/event-of-the-week-lake-metroparks-farmpark-country-lights-drive-thru/2025-12-12/
LOCATION:Lake Metroparks Farmpark\, 8800 Euclid Chardon Road\, Kirtland
CATEGORIES:Holiday
ATTACH;FMTTYPE=image/jpeg:https://www.northeastohioparent.com/wp-content/uploads/2025/11/Country-Lights-1-Andy-McGovern.jpg
GEO:41.5811077;-81.3314222
X-APPLE-STRUCTURED-LOCATION;VALUE=URI;X-ADDRESS=Lake Metroparks Farmpark 8800 Euclid Chardon Road Kirtland;X-APPLE-RADIUS=500;X-TITLE=8800 Euclid Chardon Road:geo:-81.3314222,41.5811077
END:VEVENT
BEGIN:VEVENT
DTSTART;VALUE=DATE:20251212
DTEND;VALUE=DATE:20251213
DTSTAMP:20260422T030515
CREATED:20251114T171511Z
LAST-MODIFIED:20251114T171511Z
UID:167474-1765497600-1765583999@www.northeastohioparent.com
SUMMARY:Magic of Lights
DESCRIPTION:Family-friendly drive-through of holiday lights. 
URL:https://www.northeastohioparent.com/event/magic-of-lights-4/2025-12-12/
LOCATION:Victory Park  Ohio\, 7777 Victory Lane\, North Ridgreville
CATEGORIES:Holiday,Outdoors,Parks
GEO:41.3785164;-81.97696
X-APPLE-STRUCTURED-LOCATION;VALUE=URI;X-ADDRESS=Victory Park  Ohio 7777 Victory Lane North Ridgreville;X-APPLE-RADIUS=500;X-TITLE=7777 Victory Lane:geo:-81.97696,41.3785164
END:VEVENT
BEGIN:VEVENT
DTSTART;VALUE=DATE:20251212
DTEND;VALUE=DATE:20251213
DTSTAMP:20260422T030515
CREATED:20251114T174038Z
LAST-MODIFIED:20251114T174038Z
UID:167516-1765497600-1765583999@www.northeastohioparent.com
SUMMARY:Deck the Hall
DESCRIPTION:Come see the estate illuminated with over one million lights on select evenings. 
URL:https://www.northeastohioparent.com/event/deck-the-hall-2/2025-12-12/
LOCATION:Stan Hwyet Hall & Gardens\, 714 North Portage Path\, Akron\, OH\, 44303\, United States
CATEGORIES:Garden,Holiday
END:VEVENT
BEGIN:VEVENT
DTSTART;VALUE=DATE:20251212
DTEND;VALUE=DATE:20251213
DTSTAMP:20260422T030515
CREATED:20251114T200121Z
LAST-MODIFIED:20251114T200422Z
UID:167562-1765497600-1765583999@www.northeastohioparent.com
SUMMARY:How the Grinch Stole Christmas
DESCRIPTION:A magical Dr. Seuss’ classic holiday tale comes to life on stage as a musical. Guests will hear hit songs “You’re A Mean One\, Mr. Grinch” and “Welcome Christmas.” The Grinch discovers there’s more to Christmas than he expected in this heart-warming holiday classic. Max the Dog narrates as the Grinch\, whose heart is “two sizes too small\,” tries to steal Christmas away from the Whos\, an endlessly cheerful bunch bursting with holiday spirit. The New York Times calls this show\, “100 times better than any bedtime story!”  read more
URL:https://www.northeastohioparent.com/event/how-the-grinch-stole-christmas/2025-12-12/
LOCATION:Key Bank State Theatre\, Playhouse Square\, 1519 Euclid Ave.\, Cleveland\, OH\, United States
CATEGORIES:Holiday,Theater
ATTACH;FMTTYPE=image/webp:https://www.northeastohioparent.com/wp-content/uploads/2025/11/Grinch-Who-Stole-Christmas.webp
END:VEVENT
BEGIN:VEVENT
DTSTART;VALUE=DATE:20251212
DTEND;VALUE=DATE:20251213
DTSTAMP:20260422T030515
CREATED:20251114T201103Z
LAST-MODIFIED:20251114T201105Z
UID:167571-1765497600-1765583999@www.northeastohioparent.com
SUMMARY:Holly Jolly Science Night
DESCRIPTION:Enjoy a new Holiday Program Presented by MAD SCIENCE. This will be a night of wonder and fun for exciting experiments and hands-on activities that bring science to life. There will be a craft station\, a hot cocoa bar\, a kids buffet dinner and a special guest appearance\, The Grinch!  $15.00 Includes Holiday Show & Kids Buffet. 6-8 p.m.   read more
URL:https://www.northeastohioparent.com/event/holly-jolly-science-night/
LOCATION:Arrowhead Event Center\, 1500 Rogwin Circle Southwest\, N. Canton\, OH\, United States
CATEGORIES:food,Holiday,Science
ATTACH;FMTTYPE=image/webp:https://www.northeastohioparent.com/wp-content/uploads/2025/11/Holly-Jolly-Science-Night.webp
END:VEVENT
BEGIN:VEVENT
DTSTART;TZID=America/New_York:20251212T120000
DTEND;TZID=America/New_York:20251212T180000
DTSTAMP:20260422T030515
CREATED:20251113T184910Z
LAST-MODIFIED:20251115T160030Z
UID:167377-1765540800-1765562400@www.northeastohioparent.com
SUMMARY:Jingle & Mingle Christmas Spectacular 2025
DESCRIPTION:Liberty Home Mortgage is thrilled to announce our 5th annual Christmas open house on Dec. 12 from 12 p.m. – 6 p.m. in our corporate office at 6225 Oak Tree Boulevard in Independence\, Ohio. The “Jingle & Mingle Christmas Spectacular 2025” ushers in the 12 days of Christmas as you walk through two floors of wall-to-wall winter wonderland featuring 250 Christmas trees\, two live ponies\, thousands of twinkle lights\, cookies\, and a hot cocoa & coffee bar while enjoying live music.  read more
URL:https://www.northeastohioparent.com/event/jingle-mingle-christmas-spectacular-2025/
LOCATION:Liberty Home Mortgage\, 6225 Oak Tree Blvd\, Independence\, OH\, United States
CATEGORIES:Holiday
ATTACH;FMTTYPE=image/jpeg:https://www.northeastohioparent.com/wp-content/uploads/2025/11/LHM-Christmas-1-final-1.jpg
ORGANIZER;CN="Liberty%20Home%20Mortgage":MAILTO:cbeaulieu@libertyhm.com
END:VEVENT
END:VCALENDAR