BEGIN:VCALENDAR
VERSION:2.0
PRODID:-//Northeast Ohio Parent - ECPv5.16.4//NONSGML v1.0//EN
CALSCALE:GREGORIAN
METHOD:PUBLISH
X-WR-CALNAME:Northeast Ohio Parent
X-ORIGINAL-URL:https://www.northeastohioparent.com
X-WR-CALDESC:Events for Northeast Ohio Parent
BEGIN:VTIMEZONE
TZID:America/New_York
BEGIN:DAYLIGHT
TZOFFSETFROM:-0500
TZOFFSETTO:-0400
TZNAME:EDT
DTSTART:20250309T070000
END:DAYLIGHT
BEGIN:STANDARD
TZOFFSETFROM:-0400
TZOFFSETTO:-0500
TZNAME:EST
DTSTART:20251102T060000
END:STANDARD
END:VTIMEZONE
BEGIN:VEVENT
DTSTART;VALUE=DATE:20251212
DTEND;VALUE=DATE:20251215
DTSTAMP:20260422T012554
CREATED:20251111T173117Z
LAST-MODIFIED:20251125T175147Z
UID:168834-1765497600-1765756799@www.northeastohioparent.com
SUMMARY:Event of the Week: Lake Metroparks Farmpark Country Lights Drive-thru
DESCRIPTION:Seasonal splendor and festive fun are just around the corner at Lake Metroparks Farmpark with the return of the Country Lights Drive-thru! Families can enjoy a sparkling winter wonderland from the comfort of their own vehicles\, taking in the magic of the season without stepping outside or facing the chilly weather.
URL:https://www.northeastohioparent.com/event/event-of-the-week-lake-metroparks-farmpark-country-lights-drive-thru/2025-12-12/
LOCATION:Lake Metroparks Farmpark\, 8800 Euclid Chardon Road\, Kirtland
CATEGORIES:Holiday
ATTACH;FMTTYPE=image/jpeg:https://www.northeastohioparent.com/wp-content/uploads/2025/11/Country-Lights-1-Andy-McGovern.jpg
GEO:41.5811077;-81.3314222
X-APPLE-STRUCTURED-LOCATION;VALUE=URI;X-ADDRESS=Lake Metroparks Farmpark 8800 Euclid Chardon Road Kirtland;X-APPLE-RADIUS=500;X-TITLE=8800 Euclid Chardon Road:geo:-81.3314222,41.5811077
END:VEVENT
BEGIN:VEVENT
DTSTART;VALUE=DATE:20251213
DTEND;VALUE=DATE:20251214
DTSTAMP:20260422T012554
CREATED:20251008T014539Z
LAST-MODIFIED:20251008T014539Z
UID:162590-1765584000-1765670399@www.northeastohioparent.com
SUMMARY:Wild Lights
DESCRIPTION:Seasonal splendor and festive fun are just around the corner at Lake Metroparks Farmpark with the return of the Country Lights Drive-thru! Families can enjoy a sparkling winter wonderland from the comfort of their own vehicles\, taking in the magic of the season without stepping outside or facing the chilly weather.
URL:https://www.northeastohioparent.com/event/wild-lights-2/2025-12-13/
LOCATION:Akron Zoo\, 505 Euclid Ave\, Akron\, OH\, 44307\, United States
CATEGORIES:Holiday,Zoo
ATTACH;FMTTYPE=image/jpeg:https://www.northeastohioparent.com/wp-content/uploads/2025/10/Wild-Lights-at-the-Akron-Zoo.jpg
END:VEVENT
BEGIN:VEVENT
DTSTART;VALUE=DATE:20251213
DTEND;VALUE=DATE:20251214
DTSTAMP:20260422T012554
CREATED:20251008T185631Z
LAST-MODIFIED:20251008T185631Z
UID:162654-1765584000-1765670399@www.northeastohioparent.com
SUMMARY:Holiday Ice & Lights Festival
DESCRIPTION:Seasonal splendor and festive fun are just around the corner at Lake Metroparks Farmpark with the return of the Country Lights Drive-thru! Families can enjoy a sparkling winter wonderland from the comfort of their own vehicles\, taking in the magic of the season without stepping outside or facing the chilly weather.
URL:https://www.northeastohioparent.com/event/holiday-ice-lights-festival/2025-12-13/
LOCATION:Lake Metroparks Farmpark\, 8800 Euclid Chardon Road\, Kirtland
CATEGORIES:Holiday,Outdoors,Parks
ATTACH;FMTTYPE=image/jpeg:https://www.northeastohioparent.com/wp-content/uploads/2025/10/Ice-carving-634-Earl-Linaburg.jpg
GEO:41.5811077;-81.3314222
X-APPLE-STRUCTURED-LOCATION;VALUE=URI;X-ADDRESS=Lake Metroparks Farmpark 8800 Euclid Chardon Road Kirtland;X-APPLE-RADIUS=500;X-TITLE=8800 Euclid Chardon Road:geo:-81.3314222,41.5811077
END:VEVENT
BEGIN:VEVENT
DTSTART;VALUE=DATE:20251213
DTEND;VALUE=DATE:20251214
DTSTAMP:20260422T012554
CREATED:20251011T132328Z
LAST-MODIFIED:20251011T132328Z
UID:162919-1765584000-1765670399@www.northeastohioparent.com
SUMMARY:Candy Land: It’s Wild in Ohio
DESCRIPTION:Seasonal splendor and festive fun are just around the corner at Lake Metroparks Farmpark with the return of the Country Lights Drive-thru! Families can enjoy a sparkling winter wonderland from the comfort of their own vehicles\, taking in the magic of the season without stepping outside or facing the chilly weather.
URL:https://www.northeastohioparent.com/event/candy-land-its-wild-in-ohio-2/2025-12-13/
LOCATION:Penitentiary Glen Reservation\, 8668 Kirtland Chardon Road\, Willoughby\, OH\, 44094\, United States
CATEGORIES:Crafts,Game,Holiday
ATTACH;FMTTYPE=image/webp:https://www.northeastohioparent.com/wp-content/uploads/2025/10/rainbow.webp
GEO:41.6111026;-81.3322554
X-APPLE-STRUCTURED-LOCATION;VALUE=URI;X-ADDRESS=Penitentiary Glen Reservation 8668 Kirtland Chardon Road Willoughby OH 44094 United States;X-APPLE-RADIUS=500;X-TITLE=8668 Kirtland Chardon Road:geo:-81.3322554,41.6111026
END:VEVENT
BEGIN:VEVENT
DTSTART;VALUE=DATE:20251213
DTEND;VALUE=DATE:20251214
DTSTAMP:20260422T012554
CREATED:20251114T171511Z
LAST-MODIFIED:20251114T171511Z
UID:167475-1765584000-1765670399@www.northeastohioparent.com
SUMMARY:Magic of Lights
DESCRIPTION:Seasonal splendor and festive fun are just around the corner at Lake Metroparks Farmpark with the return of the Country Lights Drive-thru! Families can enjoy a sparkling winter wonderland from the comfort of their own vehicles\, taking in the magic of the season without stepping outside or facing the chilly weather.
URL:https://www.northeastohioparent.com/event/magic-of-lights-4/2025-12-13/
LOCATION:Victory Park  Ohio\, 7777 Victory Lane\, North Ridgreville
CATEGORIES:Holiday,Outdoors,Parks
GEO:41.3785164;-81.97696
X-APPLE-STRUCTURED-LOCATION;VALUE=URI;X-ADDRESS=Victory Park  Ohio 7777 Victory Lane North Ridgreville;X-APPLE-RADIUS=500;X-TITLE=7777 Victory Lane:geo:-81.97696,41.3785164
END:VEVENT
BEGIN:VEVENT
DTSTART;VALUE=DATE:20251213
DTEND;VALUE=DATE:20251214
DTSTAMP:20260422T012554
CREATED:20251114T174038Z
LAST-MODIFIED:20251114T174038Z
UID:167517-1765584000-1765670399@www.northeastohioparent.com
SUMMARY:Deck the Hall
DESCRIPTION:Seasonal splendor and festive fun are just around the corner at Lake Metroparks Farmpark with the return of the Country Lights Drive-thru! Families can enjoy a sparkling winter wonderland from the comfort of their own vehicles\, taking in the magic of the season without stepping outside or facing the chilly weather.
URL:https://www.northeastohioparent.com/event/deck-the-hall-2/2025-12-13/
LOCATION:Stan Hwyet Hall & Gardens\, 714 North Portage Path\, Akron\, OH\, 44303\, United States
CATEGORIES:Garden,Holiday
END:VEVENT
BEGIN:VEVENT
DTSTART;VALUE=DATE:20251213
DTEND;VALUE=DATE:20251214
DTSTAMP:20260422T012554
CREATED:20251114T200121Z
LAST-MODIFIED:20251114T200423Z
UID:167563-1765584000-1765670399@www.northeastohioparent.com
SUMMARY:How the Grinch Stole Christmas
DESCRIPTION:Seasonal splendor and festive fun are just around the corner at Lake Metroparks Farmpark with the return of the Country Lights Drive-thru! Families can enjoy a sparkling winter wonderland from the comfort of their own vehicles\, taking in the magic of the season without stepping outside or facing the chilly weather.
URL:https://www.northeastohioparent.com/event/how-the-grinch-stole-christmas/2025-12-13/
LOCATION:Key Bank State Theatre\, Playhouse Square\, 1519 Euclid Ave.\, Cleveland\, OH\, United States
CATEGORIES:Holiday,Theater
ATTACH;FMTTYPE=image/webp:https://www.northeastohioparent.com/wp-content/uploads/2025/11/Grinch-Who-Stole-Christmas.webp
END:VEVENT
BEGIN:VEVENT
DTSTART;VALUE=DATE:20251213
DTEND;VALUE=DATE:20251214
DTSTAMP:20260422T012554
CREATED:20251114T201403Z
LAST-MODIFIED:20251114T201403Z
UID:167575-1765584000-1765670399@www.northeastohioparent.com
SUMMARY:Cleveland Orchestra Holiday Concerts
DESCRIPTION:Seasonal splendor and festive fun are just around the corner at Lake Metroparks Farmpark with the return of the Country Lights Drive-thru! Families can enjoy a sparkling winter wonderland from the comfort of their own vehicles\, taking in the magic of the season without stepping outside or facing the chilly weather.
URL:https://www.northeastohioparent.com/event/cleveland-orchestra-holiday-concerts-2/
LOCATION:Mandel Concert Hall\, 11001 Euclid Ave.\, Cleveland
CATEGORIES:Holiday,Music
END:VEVENT
END:VCALENDAR