BEGIN:VCALENDAR
VERSION:2.0
PRODID:-//Northeast Ohio Parent - ECPv5.16.4//NONSGML v1.0//EN
CALSCALE:GREGORIAN
METHOD:PUBLISH
X-WR-CALNAME:Northeast Ohio Parent
X-ORIGINAL-URL:https://www.northeastohioparent.com
X-WR-CALDESC:Events for Northeast Ohio Parent
BEGIN:VTIMEZONE
TZID:America/New_York
BEGIN:DAYLIGHT
TZOFFSETFROM:-0500
TZOFFSETTO:-0400
TZNAME:EDT
DTSTART:20250309T070000
END:DAYLIGHT
BEGIN:STANDARD
TZOFFSETFROM:-0400
TZOFFSETTO:-0500
TZNAME:EST
DTSTART:20251102T060000
END:STANDARD
END:VTIMEZONE
BEGIN:VEVENT
DTSTART;VALUE=DATE:20251229
DTEND;VALUE=DATE:20251230
DTSTAMP:20260419T084229
CREATED:20251008T014539Z
LAST-MODIFIED:20251008T014539Z
UID:162606-1766966400-1767052799@www.northeastohioparent.com
SUMMARY:Wild Lights
DESCRIPTION:Wild Lights\, the Akron Zoo’s popular holiday lighting event\, runs Nov. 28 through Dec. 30. The zoo is decorated in more than one million lights\, with a refreshed look for this year. Guests can visit with Santa through Dec. 30\, and the Grinch will be onsite every evening.  read more
URL:https://www.northeastohioparent.com/event/wild-lights-2/2025-12-29/
LOCATION:Akron Zoo\, 505 Euclid Ave\, Akron\, OH\, 44307\, United States
CATEGORIES:Holiday,Zoo
ATTACH;FMTTYPE=image/jpeg:https://www.northeastohioparent.com/wp-content/uploads/2025/10/Wild-Lights-at-the-Akron-Zoo.jpg
END:VEVENT
BEGIN:VEVENT
DTSTART;VALUE=DATE:20251229
DTEND;VALUE=DATE:20251230
DTSTAMP:20260419T084229
CREATED:20251008T185631Z
LAST-MODIFIED:20251008T185631Z
UID:162670-1766966400-1767052799@www.northeastohioparent.com
SUMMARY:Holiday Ice & Lights Festival
DESCRIPTION:Bundle up and head outside to sit on Santa’s ice throne. Also\, check out some of northeast Ohio’s best ice carvers in action. There will be plenty of photo opportunities.  read more
URL:https://www.northeastohioparent.com/event/holiday-ice-lights-festival/2025-12-29/
LOCATION:Lake Metroparks Farmpark\, 8800 Euclid Chardon Road\, Kirtland
CATEGORIES:Holiday,Outdoors,Parks
ATTACH;FMTTYPE=image/jpeg:https://www.northeastohioparent.com/wp-content/uploads/2025/10/Ice-carving-634-Earl-Linaburg.jpg
GEO:41.5811077;-81.3314222
X-APPLE-STRUCTURED-LOCATION;VALUE=URI;X-ADDRESS=Lake Metroparks Farmpark 8800 Euclid Chardon Road Kirtland;X-APPLE-RADIUS=500;X-TITLE=8800 Euclid Chardon Road:geo:-81.3314222,41.5811077
END:VEVENT
BEGIN:VEVENT
DTSTART;VALUE=DATE:20251229
DTEND;VALUE=DATE:20251230
DTSTAMP:20260419T084229
CREATED:20251011T132328Z
LAST-MODIFIED:20251011T132328Z
UID:162935-1766966400-1767052799@www.northeastohioparent.com
SUMMARY:Candy Land: It’s Wild in Ohio
DESCRIPTION:A FREE indoor family tradition where the Candy Land game comes to life. Enjoy a colorful adventure and discover what’s wild in Ohio. Also\, enjoy a themed craft\, scavenger hunts\, hands-on exhibits and more. Shop for nature-themed gifts and enjoy hot chocolate in Snowshoe Lodge.  read more
URL:https://www.northeastohioparent.com/event/candy-land-its-wild-in-ohio-2/2025-12-29/
LOCATION:Penitentiary Glen Reservation\, 8668 Kirtland Chardon Road\, Willoughby\, OH\, 44094\, United States
CATEGORIES:Crafts,Game,Holiday
ATTACH;FMTTYPE=image/webp:https://www.northeastohioparent.com/wp-content/uploads/2025/10/rainbow.webp
GEO:41.6111026;-81.3322554
X-APPLE-STRUCTURED-LOCATION;VALUE=URI;X-ADDRESS=Penitentiary Glen Reservation 8668 Kirtland Chardon Road Willoughby OH 44094 United States;X-APPLE-RADIUS=500;X-TITLE=8668 Kirtland Chardon Road:geo:-81.3322554,41.6111026
END:VEVENT
END:VCALENDAR