BEGIN:VCALENDAR
VERSION:2.0
PRODID:-//Northeast Ohio Parent - ECPv5.16.4//NONSGML v1.0//EN
CALSCALE:GREGORIAN
METHOD:PUBLISH
X-WR-CALNAME:Northeast Ohio Parent
X-ORIGINAL-URL:https://www.northeastohioparent.com
X-WR-CALDESC:Events for Northeast Ohio Parent
BEGIN:VTIMEZONE
TZID:America/New_York
BEGIN:DAYLIGHT
TZOFFSETFROM:-0500
TZOFFSETTO:-0400
TZNAME:EDT
DTSTART:20260308T070000
END:DAYLIGHT
BEGIN:STANDARD
TZOFFSETFROM:-0400
TZOFFSETTO:-0500
TZNAME:EST
DTSTART:20261101T060000
END:STANDARD
END:VTIMEZONE
BEGIN:VEVENT
DTSTART;VALUE=DATE:20260315
DTEND;VALUE=DATE:20260316
DTSTAMP:20260425T141515
CREATED:20260117T184007Z
LAST-MODIFIED:20260117T184007Z
UID:172549-1773532800-1773619199@www.northeastohioparent.com
SUMMARY:Sensory Bunny
DESCRIPTION:A quieter\, sensory-friendly experience that will allow families to visit the Easter Bunny prior to the mall opening in a calmer environment with minimal guest traffic. Reservations are recommended\, but not required. 9-10:30 a.m.  read more
URL:https://www.northeastohioparent.com/event/sensory-bunny/2026-03-15/
LOCATION:Great Northern Mall\, 4954 Great Northern Blvd.\, North Olmsted
CATEGORIES:Holiday,Special Needs
ATTACH;FMTTYPE=image/jpeg:https://www.northeastohioparent.com/wp-content/uploads/2025/04/Bunny.jpg
GEO:41.4164446;-81.9056175
X-APPLE-STRUCTURED-LOCATION;VALUE=URI;X-ADDRESS=Great Northern Mall 4954 Great Northern Blvd. North Olmsted;X-APPLE-RADIUS=500;X-TITLE=4954 Great Northern Blvd.:geo:-81.9056175,41.4164446
END:VEVENT
END:VCALENDAR