BEGIN:VCALENDAR
VERSION:2.0
PRODID:-//Northeast Ohio Parent - ECPv5.16.4//NONSGML v1.0//EN
CALSCALE:GREGORIAN
METHOD:PUBLISH
X-WR-CALNAME:Northeast Ohio Parent
X-ORIGINAL-URL:https://www.northeastohioparent.com
X-WR-CALDESC:Events for Northeast Ohio Parent
BEGIN:VTIMEZONE
TZID:America/New_York
BEGIN:DAYLIGHT
TZOFFSETFROM:-0500
TZOFFSETTO:-0400
TZNAME:EDT
DTSTART:20250309T070000
END:DAYLIGHT
BEGIN:STANDARD
TZOFFSETFROM:-0400
TZOFFSETTO:-0500
TZNAME:EST
DTSTART:20251102T060000
END:STANDARD
END:VTIMEZONE
BEGIN:VEVENT
DTSTART;VALUE=DATE:20250804
DTEND;VALUE=DATE:20250805
DTSTAMP:20260423T094421
CREATED:20250803T225354Z
LAST-MODIFIED:20250803T225354Z
UID:158022-1754265600-1754351999@www.northeastohioparent.com
SUMMARY:Sensory Cinema
DESCRIPTION:A theater environment tailored to attendees with sensory processing challenges and their families. 6:30-8:30 p.m.  read more
URL:https://www.northeastohioparent.com/event/sensory-cinema/
LOCATION:Canton Palace Theatre\, 605 Market Ave North\, Canton\, 44702
CATEGORIES:Special Needs,Theater
GEO:40.8022079;-81.3738148
X-APPLE-STRUCTURED-LOCATION;VALUE=URI;X-ADDRESS=Canton Palace Theatre 605 Market Ave North Canton 44702;X-APPLE-RADIUS=500;X-TITLE=605 Market Ave North:geo:-81.3738148,40.8022079
END:VEVENT
END:VCALENDAR