BEGIN:VCALENDAR
VERSION:2.0
PRODID:-//Northeast Ohio Parent - ECPv5.16.4//NONSGML v1.0//EN
CALSCALE:GREGORIAN
METHOD:PUBLISH
X-WR-CALNAME:Northeast Ohio Parent
X-ORIGINAL-URL:https://www.northeastohioparent.com
X-WR-CALDESC:Events for Northeast Ohio Parent
BEGIN:VTIMEZONE
TZID:America/New_York
BEGIN:DAYLIGHT
TZOFFSETFROM:-0500
TZOFFSETTO:-0400
TZNAME:EDT
DTSTART:20250309T070000
END:DAYLIGHT
BEGIN:STANDARD
TZOFFSETFROM:-0400
TZOFFSETTO:-0500
TZNAME:EST
DTSTART:20251102T060000
END:STANDARD
END:VTIMEZONE
BEGIN:VEVENT
DTSTART;VALUE=DATE:20250810
DTEND;VALUE=DATE:20250811
DTSTAMP:20260423T020759
CREATED:20250803T225638Z
LAST-MODIFIED:20250803T225638Z
UID:158026-1754784000-1754870399@www.northeastohioparent.com
SUMMARY:Talent Show
DESCRIPTION:This unique event is dedicated to celebrating and empowering individuals (ages 5-18) with special needs in our community.  read more
URL:https://www.northeastohioparent.com/event/talent-show/
LOCATION:Sari Feldman Auditorium\, 2111 Snow Road\, Parma\, OH\, United States
CATEGORIES:Special Needs,Theater
END:VEVENT
END:VCALENDAR