BEGIN:VCALENDAR
VERSION:2.0
PRODID:-//Northeast Ohio Parent - ECPv5.16.4//NONSGML v1.0//EN
CALSCALE:GREGORIAN
METHOD:PUBLISH
X-WR-CALNAME:Northeast Ohio Parent
X-ORIGINAL-URL:https://www.northeastohioparent.com
X-WR-CALDESC:Events for Northeast Ohio Parent
BEGIN:VTIMEZONE
TZID:America/New_York
BEGIN:DAYLIGHT
TZOFFSETFROM:-0500
TZOFFSETTO:-0400
TZNAME:EDT
DTSTART:20250309T070000
END:DAYLIGHT
BEGIN:STANDARD
TZOFFSETFROM:-0400
TZOFFSETTO:-0500
TZNAME:EST
DTSTART:20251102T060000
END:STANDARD
END:VTIMEZONE
BEGIN:VEVENT
DTSTART;VALUE=DATE:20250830
DTEND;VALUE=DATE:20250831
DTSTAMP:20260419T231309
CREATED:20250803T181950Z
LAST-MODIFIED:20250803T181950Z
UID:157871-1756512000-1756598399@www.northeastohioparent.com
SUMMARY:The Lion King: Live in Concert
DESCRIPTION:Unforgettable music by a notable team of Oscar and Grammy winners\, including superstar Elton John\, lyricist Tim Rice\, and more.   read more
URL:https://www.northeastohioparent.com/event/the-lion-king-live-in-concert/2025-08-30/
LOCATION:Blossom Music Center\, 1145 W. Steels Corners Road\, Cuyahoga Falls\, OH\, United States
CATEGORIES:Movie,Music,Theater
END:VEVENT
END:VCALENDAR